BEGIN:VCALENDAR
VERSION:2.0
PRODID:-//Ocean Course Hokuala - ECPv6.15.18//NONSGML v1.0//EN
CALSCALE:GREGORIAN
METHOD:PUBLISH
X-WR-CALNAME:Ocean Course Hokuala
X-ORIGINAL-URL:https://www.golfhokuala.com
X-WR-CALDESC:Events for Ocean Course Hokuala
REFRESH-INTERVAL;VALUE=DURATION:PT1H
X-Robots-Tag:noindex
X-PUBLISHED-TTL:PT1H
BEGIN:VTIMEZONE
TZID:UTC
BEGIN:STANDARD
TZOFFSETFROM:+0000
TZOFFSETTO:+0000
TZNAME:UTC
DTSTART:20250101T000000
END:STANDARD
END:VTIMEZONE
BEGIN:VEVENT
DTSTART;TZID=UTC:20260428T063000
DTEND;TZID=UTC:20260428T080000
DTSTAMP:20260423T000135
CREATED:20260306T125604Z
LAST-MODIFIED:20260306T125607Z
UID:10000093-1777357800-1777363200@www.golfhokuala.com
SUMMARY:Sunrise Hui Aloha
DESCRIPTION:Celebrate the start of another Glorious Day\, join us Tuesdays 6:30 AM – 8:00 AM for a Sunrise greeting with an Alaka`i (tour guide). Stroll through the farm at Hokuala\, drive through the enchanted forest of mango grove\, listen to ancient Hawaiian ‘olelo (stories) of the area while enjoying stunning mountain and ocean views of the Ocean Course Hokuala. A portion will be donated back to the “Aloha Movement”. Driver’s license required to operate golf cart.
URL:https://www.golfhokuala.com/event/sunrise-hui-aloha/2026-04-28/
LOCATION:Ocean Course Hokuala\, 3132 Ninini Point St\, Lihue\, Hawaii\, 96766
END:VEVENT
BEGIN:VEVENT
DTSTART;TZID=UTC:20260505T063000
DTEND;TZID=UTC:20260505T080000
DTSTAMP:20260423T000135
CREATED:20260306T125604Z
LAST-MODIFIED:20260306T125607Z
UID:10000094-1777962600-1777968000@www.golfhokuala.com
SUMMARY:Sunrise Hui Aloha
DESCRIPTION:Celebrate the start of another Glorious Day\, join us Tuesdays 6:30 AM – 8:00 AM for a Sunrise greeting with an Alaka`i (tour guide). Stroll through the farm at Hokuala\, drive through the enchanted forest of mango grove\, listen to ancient Hawaiian ‘olelo (stories) of the area while enjoying stunning mountain and ocean views of the Ocean Course Hokuala. A portion will be donated back to the “Aloha Movement”. Driver’s license required to operate golf cart.
URL:https://www.golfhokuala.com/event/sunrise-hui-aloha/2026-05-05/
LOCATION:Ocean Course Hokuala\, 3132 Ninini Point St\, Lihue\, Hawaii\, 96766
END:VEVENT
BEGIN:VEVENT
DTSTART;TZID=UTC:20260512T063000
DTEND;TZID=UTC:20260512T080000
DTSTAMP:20260423T000135
CREATED:20260306T125604Z
LAST-MODIFIED:20260306T125607Z
UID:10000095-1778567400-1778572800@www.golfhokuala.com
SUMMARY:Sunrise Hui Aloha
DESCRIPTION:Celebrate the start of another Glorious Day\, join us Tuesdays 6:30 AM – 8:00 AM for a Sunrise greeting with an Alaka`i (tour guide). Stroll through the farm at Hokuala\, drive through the enchanted forest of mango grove\, listen to ancient Hawaiian ‘olelo (stories) of the area while enjoying stunning mountain and ocean views of the Ocean Course Hokuala. A portion will be donated back to the “Aloha Movement”. Driver’s license required to operate golf cart.
URL:https://www.golfhokuala.com/event/sunrise-hui-aloha/2026-05-12/
LOCATION:Ocean Course Hokuala\, 3132 Ninini Point St\, Lihue\, Hawaii\, 96766
END:VEVENT
BEGIN:VEVENT
DTSTART;TZID=UTC:20260519T063000
DTEND;TZID=UTC:20260519T080000
DTSTAMP:20260423T000135
CREATED:20260306T125604Z
LAST-MODIFIED:20260306T125607Z
UID:10000096-1779172200-1779177600@www.golfhokuala.com
SUMMARY:Sunrise Hui Aloha
DESCRIPTION:Celebrate the start of another Glorious Day\, join us Tuesdays 6:30 AM – 8:00 AM for a Sunrise greeting with an Alaka`i (tour guide). Stroll through the farm at Hokuala\, drive through the enchanted forest of mango grove\, listen to ancient Hawaiian ‘olelo (stories) of the area while enjoying stunning mountain and ocean views of the Ocean Course Hokuala. A portion will be donated back to the “Aloha Movement”. Driver’s license required to operate golf cart.
URL:https://www.golfhokuala.com/event/sunrise-hui-aloha/2026-05-19/
LOCATION:Ocean Course Hokuala\, 3132 Ninini Point St\, Lihue\, Hawaii\, 96766
END:VEVENT
BEGIN:VEVENT
DTSTART;TZID=UTC:20260526T063000
DTEND;TZID=UTC:20260526T080000
DTSTAMP:20260423T000135
CREATED:20260306T125604Z
LAST-MODIFIED:20260306T125607Z
UID:10000097-1779777000-1779782400@www.golfhokuala.com
SUMMARY:Sunrise Hui Aloha
DESCRIPTION:Celebrate the start of another Glorious Day\, join us Tuesdays 6:30 AM – 8:00 AM for a Sunrise greeting with an Alaka`i (tour guide). Stroll through the farm at Hokuala\, drive through the enchanted forest of mango grove\, listen to ancient Hawaiian ‘olelo (stories) of the area while enjoying stunning mountain and ocean views of the Ocean Course Hokuala. A portion will be donated back to the “Aloha Movement”. Driver’s license required to operate golf cart.
URL:https://www.golfhokuala.com/event/sunrise-hui-aloha/2026-05-26/
LOCATION:Ocean Course Hokuala\, 3132 Ninini Point St\, Lihue\, Hawaii\, 96766
END:VEVENT
BEGIN:VEVENT
DTSTART;TZID=UTC:20260602T063000
DTEND;TZID=UTC:20260602T080000
DTSTAMP:20260423T000135
CREATED:20260306T125604Z
LAST-MODIFIED:20260306T125607Z
UID:10000098-1780381800-1780387200@www.golfhokuala.com
SUMMARY:Sunrise Hui Aloha
DESCRIPTION:Celebrate the start of another Glorious Day\, join us Tuesdays 6:30 AM – 8:00 AM for a Sunrise greeting with an Alaka`i (tour guide). Stroll through the farm at Hokuala\, drive through the enchanted forest of mango grove\, listen to ancient Hawaiian ‘olelo (stories) of the area while enjoying stunning mountain and ocean views of the Ocean Course Hokuala. A portion will be donated back to the “Aloha Movement”. Driver’s license required to operate golf cart.
URL:https://www.golfhokuala.com/event/sunrise-hui-aloha/2026-06-02/
LOCATION:Ocean Course Hokuala\, 3132 Ninini Point St\, Lihue\, Hawaii\, 96766
END:VEVENT
BEGIN:VEVENT
DTSTART;TZID=UTC:20260609T063000
DTEND;TZID=UTC:20260609T080000
DTSTAMP:20260423T000135
CREATED:20260306T125604Z
LAST-MODIFIED:20260306T125607Z
UID:10000099-1780986600-1780992000@www.golfhokuala.com
SUMMARY:Sunrise Hui Aloha
DESCRIPTION:Celebrate the start of another Glorious Day\, join us Tuesdays 6:30 AM – 8:00 AM for a Sunrise greeting with an Alaka`i (tour guide). Stroll through the farm at Hokuala\, drive through the enchanted forest of mango grove\, listen to ancient Hawaiian ‘olelo (stories) of the area while enjoying stunning mountain and ocean views of the Ocean Course Hokuala. A portion will be donated back to the “Aloha Movement”. Driver’s license required to operate golf cart.
URL:https://www.golfhokuala.com/event/sunrise-hui-aloha/2026-06-09/
LOCATION:Ocean Course Hokuala\, 3132 Ninini Point St\, Lihue\, Hawaii\, 96766
END:VEVENT
BEGIN:VEVENT
DTSTART;TZID=UTC:20260616T063000
DTEND;TZID=UTC:20260616T080000
DTSTAMP:20260423T000135
CREATED:20260306T125604Z
LAST-MODIFIED:20260306T125607Z
UID:10000100-1781591400-1781596800@www.golfhokuala.com
SUMMARY:Sunrise Hui Aloha
DESCRIPTION:Celebrate the start of another Glorious Day\, join us Tuesdays 6:30 AM – 8:00 AM for a Sunrise greeting with an Alaka`i (tour guide). Stroll through the farm at Hokuala\, drive through the enchanted forest of mango grove\, listen to ancient Hawaiian ‘olelo (stories) of the area while enjoying stunning mountain and ocean views of the Ocean Course Hokuala. A portion will be donated back to the “Aloha Movement”. Driver’s license required to operate golf cart.
URL:https://www.golfhokuala.com/event/sunrise-hui-aloha/2026-06-16/
LOCATION:Ocean Course Hokuala\, 3132 Ninini Point St\, Lihue\, Hawaii\, 96766
END:VEVENT
BEGIN:VEVENT
DTSTART;TZID=UTC:20260623T063000
DTEND;TZID=UTC:20260623T080000
DTSTAMP:20260423T000135
CREATED:20260306T125604Z
LAST-MODIFIED:20260306T125607Z
UID:10000101-1782196200-1782201600@www.golfhokuala.com
SUMMARY:Sunrise Hui Aloha
DESCRIPTION:Celebrate the start of another Glorious Day\, join us Tuesdays 6:30 AM – 8:00 AM for a Sunrise greeting with an Alaka`i (tour guide). Stroll through the farm at Hokuala\, drive through the enchanted forest of mango grove\, listen to ancient Hawaiian ‘olelo (stories) of the area while enjoying stunning mountain and ocean views of the Ocean Course Hokuala. A portion will be donated back to the “Aloha Movement”. Driver’s license required to operate golf cart.
URL:https://www.golfhokuala.com/event/sunrise-hui-aloha/2026-06-23/
LOCATION:Ocean Course Hokuala\, 3132 Ninini Point St\, Lihue\, Hawaii\, 96766
END:VEVENT
BEGIN:VEVENT
DTSTART;TZID=UTC:20260630T063000
DTEND;TZID=UTC:20260630T080000
DTSTAMP:20260423T000135
CREATED:20260306T125604Z
LAST-MODIFIED:20260306T125607Z
UID:10000102-1782801000-1782806400@www.golfhokuala.com
SUMMARY:Sunrise Hui Aloha
DESCRIPTION:Celebrate the start of another Glorious Day\, join us Tuesdays 6:30 AM – 8:00 AM for a Sunrise greeting with an Alaka`i (tour guide). Stroll through the farm at Hokuala\, drive through the enchanted forest of mango grove\, listen to ancient Hawaiian ‘olelo (stories) of the area while enjoying stunning mountain and ocean views of the Ocean Course Hokuala. A portion will be donated back to the “Aloha Movement”. Driver’s license required to operate golf cart.
URL:https://www.golfhokuala.com/event/sunrise-hui-aloha/2026-06-30/
LOCATION:Ocean Course Hokuala\, 3132 Ninini Point St\, Lihue\, Hawaii\, 96766
END:VEVENT
BEGIN:VEVENT
DTSTART;TZID=UTC:20260707T063000
DTEND;TZID=UTC:20260707T080000
DTSTAMP:20260423T000135
CREATED:20260306T125604Z
LAST-MODIFIED:20260306T125607Z
UID:10000103-1783405800-1783411200@www.golfhokuala.com
SUMMARY:Sunrise Hui Aloha
DESCRIPTION:Celebrate the start of another Glorious Day\, join us Tuesdays 6:30 AM – 8:00 AM for a Sunrise greeting with an Alaka`i (tour guide). Stroll through the farm at Hokuala\, drive through the enchanted forest of mango grove\, listen to ancient Hawaiian ‘olelo (stories) of the area while enjoying stunning mountain and ocean views of the Ocean Course Hokuala. A portion will be donated back to the “Aloha Movement”. Driver’s license required to operate golf cart.
URL:https://www.golfhokuala.com/event/sunrise-hui-aloha/2026-07-07/
LOCATION:Ocean Course Hokuala\, 3132 Ninini Point St\, Lihue\, Hawaii\, 96766
END:VEVENT
BEGIN:VEVENT
DTSTART;TZID=UTC:20260714T063000
DTEND;TZID=UTC:20260714T080000
DTSTAMP:20260423T000135
CREATED:20260306T125604Z
LAST-MODIFIED:20260306T125607Z
UID:10000104-1784010600-1784016000@www.golfhokuala.com
SUMMARY:Sunrise Hui Aloha
DESCRIPTION:Celebrate the start of another Glorious Day\, join us Tuesdays 6:30 AM – 8:00 AM for a Sunrise greeting with an Alaka`i (tour guide). Stroll through the farm at Hokuala\, drive through the enchanted forest of mango grove\, listen to ancient Hawaiian ‘olelo (stories) of the area while enjoying stunning mountain and ocean views of the Ocean Course Hokuala. A portion will be donated back to the “Aloha Movement”. Driver’s license required to operate golf cart.
URL:https://www.golfhokuala.com/event/sunrise-hui-aloha/2026-07-14/
LOCATION:Ocean Course Hokuala\, 3132 Ninini Point St\, Lihue\, Hawaii\, 96766
END:VEVENT
BEGIN:VEVENT
DTSTART;TZID=UTC:20260721T063000
DTEND;TZID=UTC:20260721T080000
DTSTAMP:20260423T000135
CREATED:20260306T125604Z
LAST-MODIFIED:20260306T125607Z
UID:10000105-1784615400-1784620800@www.golfhokuala.com
SUMMARY:Sunrise Hui Aloha
DESCRIPTION:Celebrate the start of another Glorious Day\, join us Tuesdays 6:30 AM – 8:00 AM for a Sunrise greeting with an Alaka`i (tour guide). Stroll through the farm at Hokuala\, drive through the enchanted forest of mango grove\, listen to ancient Hawaiian ‘olelo (stories) of the area while enjoying stunning mountain and ocean views of the Ocean Course Hokuala. A portion will be donated back to the “Aloha Movement”. Driver’s license required to operate golf cart.
URL:https://www.golfhokuala.com/event/sunrise-hui-aloha/2026-07-21/
LOCATION:Ocean Course Hokuala\, 3132 Ninini Point St\, Lihue\, Hawaii\, 96766
END:VEVENT
BEGIN:VEVENT
DTSTART;TZID=UTC:20260728T063000
DTEND;TZID=UTC:20260728T080000
DTSTAMP:20260423T000135
CREATED:20260306T125604Z
LAST-MODIFIED:20260306T125607Z
UID:10000106-1785220200-1785225600@www.golfhokuala.com
SUMMARY:Sunrise Hui Aloha
DESCRIPTION:Celebrate the start of another Glorious Day\, join us Tuesdays 6:30 AM – 8:00 AM for a Sunrise greeting with an Alaka`i (tour guide). Stroll through the farm at Hokuala\, drive through the enchanted forest of mango grove\, listen to ancient Hawaiian ‘olelo (stories) of the area while enjoying stunning mountain and ocean views of the Ocean Course Hokuala. A portion will be donated back to the “Aloha Movement”. Driver’s license required to operate golf cart.
URL:https://www.golfhokuala.com/event/sunrise-hui-aloha/2026-07-28/
LOCATION:Ocean Course Hokuala\, 3132 Ninini Point St\, Lihue\, Hawaii\, 96766
END:VEVENT
BEGIN:VEVENT
DTSTART;TZID=UTC:20260804T063000
DTEND;TZID=UTC:20260804T080000
DTSTAMP:20260423T000135
CREATED:20260306T125604Z
LAST-MODIFIED:20260306T125607Z
UID:10000107-1785825000-1785830400@www.golfhokuala.com
SUMMARY:Sunrise Hui Aloha
DESCRIPTION:Celebrate the start of another Glorious Day\, join us Tuesdays 6:30 AM – 8:00 AM for a Sunrise greeting with an Alaka`i (tour guide). Stroll through the farm at Hokuala\, drive through the enchanted forest of mango grove\, listen to ancient Hawaiian ‘olelo (stories) of the area while enjoying stunning mountain and ocean views of the Ocean Course Hokuala. A portion will be donated back to the “Aloha Movement”. Driver’s license required to operate golf cart.
URL:https://www.golfhokuala.com/event/sunrise-hui-aloha/2026-08-04/
LOCATION:Ocean Course Hokuala\, 3132 Ninini Point St\, Lihue\, Hawaii\, 96766
END:VEVENT
BEGIN:VEVENT
DTSTART;TZID=UTC:20260811T063000
DTEND;TZID=UTC:20260811T080000
DTSTAMP:20260423T000135
CREATED:20260306T125604Z
LAST-MODIFIED:20260306T125607Z
UID:10000108-1786429800-1786435200@www.golfhokuala.com
SUMMARY:Sunrise Hui Aloha
DESCRIPTION:Celebrate the start of another Glorious Day\, join us Tuesdays 6:30 AM – 8:00 AM for a Sunrise greeting with an Alaka`i (tour guide). Stroll through the farm at Hokuala\, drive through the enchanted forest of mango grove\, listen to ancient Hawaiian ‘olelo (stories) of the area while enjoying stunning mountain and ocean views of the Ocean Course Hokuala. A portion will be donated back to the “Aloha Movement”. Driver’s license required to operate golf cart.
URL:https://www.golfhokuala.com/event/sunrise-hui-aloha/2026-08-11/
LOCATION:Ocean Course Hokuala\, 3132 Ninini Point St\, Lihue\, Hawaii\, 96766
END:VEVENT
BEGIN:VEVENT
DTSTART;TZID=UTC:20260818T063000
DTEND;TZID=UTC:20260818T080000
DTSTAMP:20260423T000135
CREATED:20260306T125604Z
LAST-MODIFIED:20260306T125607Z
UID:10000109-1787034600-1787040000@www.golfhokuala.com
SUMMARY:Sunrise Hui Aloha
DESCRIPTION:Celebrate the start of another Glorious Day\, join us Tuesdays 6:30 AM – 8:00 AM for a Sunrise greeting with an Alaka`i (tour guide). Stroll through the farm at Hokuala\, drive through the enchanted forest of mango grove\, listen to ancient Hawaiian ‘olelo (stories) of the area while enjoying stunning mountain and ocean views of the Ocean Course Hokuala. A portion will be donated back to the “Aloha Movement”. Driver’s license required to operate golf cart.
URL:https://www.golfhokuala.com/event/sunrise-hui-aloha/2026-08-18/
LOCATION:Ocean Course Hokuala\, 3132 Ninini Point St\, Lihue\, Hawaii\, 96766
END:VEVENT
BEGIN:VEVENT
DTSTART;TZID=UTC:20260825T063000
DTEND;TZID=UTC:20260825T080000
DTSTAMP:20260423T000135
CREATED:20260306T125604Z
LAST-MODIFIED:20260306T125607Z
UID:10000110-1787639400-1787644800@www.golfhokuala.com
SUMMARY:Sunrise Hui Aloha
DESCRIPTION:Celebrate the start of another Glorious Day\, join us Tuesdays 6:30 AM – 8:00 AM for a Sunrise greeting with an Alaka`i (tour guide). Stroll through the farm at Hokuala\, drive through the enchanted forest of mango grove\, listen to ancient Hawaiian ‘olelo (stories) of the area while enjoying stunning mountain and ocean views of the Ocean Course Hokuala. A portion will be donated back to the “Aloha Movement”. Driver’s license required to operate golf cart.
URL:https://www.golfhokuala.com/event/sunrise-hui-aloha/2026-08-25/
LOCATION:Ocean Course Hokuala\, 3132 Ninini Point St\, Lihue\, Hawaii\, 96766
END:VEVENT
BEGIN:VEVENT
DTSTART;TZID=UTC:20260901T063000
DTEND;TZID=UTC:20260901T080000
DTSTAMP:20260423T000135
CREATED:20260306T125604Z
LAST-MODIFIED:20260306T125607Z
UID:10000111-1788244200-1788249600@www.golfhokuala.com
SUMMARY:Sunrise Hui Aloha
DESCRIPTION:Celebrate the start of another Glorious Day\, join us Tuesdays 6:30 AM – 8:00 AM for a Sunrise greeting with an Alaka`i (tour guide). Stroll through the farm at Hokuala\, drive through the enchanted forest of mango grove\, listen to ancient Hawaiian ‘olelo (stories) of the area while enjoying stunning mountain and ocean views of the Ocean Course Hokuala. A portion will be donated back to the “Aloha Movement”. Driver’s license required to operate golf cart.
URL:https://www.golfhokuala.com/event/sunrise-hui-aloha/2026-09-01/
LOCATION:Ocean Course Hokuala\, 3132 Ninini Point St\, Lihue\, Hawaii\, 96766
END:VEVENT
BEGIN:VEVENT
DTSTART;TZID=UTC:20260908T063000
DTEND;TZID=UTC:20260908T080000
DTSTAMP:20260423T000135
CREATED:20260306T125604Z
LAST-MODIFIED:20260306T125607Z
UID:10000112-1788849000-1788854400@www.golfhokuala.com
SUMMARY:Sunrise Hui Aloha
DESCRIPTION:Celebrate the start of another Glorious Day\, join us Tuesdays 6:30 AM – 8:00 AM for a Sunrise greeting with an Alaka`i (tour guide). Stroll through the farm at Hokuala\, drive through the enchanted forest of mango grove\, listen to ancient Hawaiian ‘olelo (stories) of the area while enjoying stunning mountain and ocean views of the Ocean Course Hokuala. A portion will be donated back to the “Aloha Movement”. Driver’s license required to operate golf cart.
URL:https://www.golfhokuala.com/event/sunrise-hui-aloha/2026-09-08/
LOCATION:Ocean Course Hokuala\, 3132 Ninini Point St\, Lihue\, Hawaii\, 96766
END:VEVENT
BEGIN:VEVENT
DTSTART;TZID=UTC:20260915T063000
DTEND;TZID=UTC:20260915T080000
DTSTAMP:20260423T000135
CREATED:20260306T125604Z
LAST-MODIFIED:20260306T125607Z
UID:10000113-1789453800-1789459200@www.golfhokuala.com
SUMMARY:Sunrise Hui Aloha
DESCRIPTION:Celebrate the start of another Glorious Day\, join us Tuesdays 6:30 AM – 8:00 AM for a Sunrise greeting with an Alaka`i (tour guide). Stroll through the farm at Hokuala\, drive through the enchanted forest of mango grove\, listen to ancient Hawaiian ‘olelo (stories) of the area while enjoying stunning mountain and ocean views of the Ocean Course Hokuala. A portion will be donated back to the “Aloha Movement”. Driver’s license required to operate golf cart.
URL:https://www.golfhokuala.com/event/sunrise-hui-aloha/2026-09-15/
LOCATION:Ocean Course Hokuala\, 3132 Ninini Point St\, Lihue\, Hawaii\, 96766
END:VEVENT
BEGIN:VEVENT
DTSTART;TZID=UTC:20260922T063000
DTEND;TZID=UTC:20260922T080000
DTSTAMP:20260423T000135
CREATED:20260306T125604Z
LAST-MODIFIED:20260306T125607Z
UID:10000114-1790058600-1790064000@www.golfhokuala.com
SUMMARY:Sunrise Hui Aloha
DESCRIPTION:Celebrate the start of another Glorious Day\, join us Tuesdays 6:30 AM – 8:00 AM for a Sunrise greeting with an Alaka`i (tour guide). Stroll through the farm at Hokuala\, drive through the enchanted forest of mango grove\, listen to ancient Hawaiian ‘olelo (stories) of the area while enjoying stunning mountain and ocean views of the Ocean Course Hokuala. A portion will be donated back to the “Aloha Movement”. Driver’s license required to operate golf cart.
URL:https://www.golfhokuala.com/event/sunrise-hui-aloha/2026-09-22/
LOCATION:Ocean Course Hokuala\, 3132 Ninini Point St\, Lihue\, Hawaii\, 96766
END:VEVENT
BEGIN:VEVENT
DTSTART;TZID=UTC:20260929T063000
DTEND;TZID=UTC:20260929T080000
DTSTAMP:20260423T000135
CREATED:20260306T125604Z
LAST-MODIFIED:20260306T125607Z
UID:10000115-1790663400-1790668800@www.golfhokuala.com
SUMMARY:Sunrise Hui Aloha
DESCRIPTION:Celebrate the start of another Glorious Day\, join us Tuesdays 6:30 AM – 8:00 AM for a Sunrise greeting with an Alaka`i (tour guide). Stroll through the farm at Hokuala\, drive through the enchanted forest of mango grove\, listen to ancient Hawaiian ‘olelo (stories) of the area while enjoying stunning mountain and ocean views of the Ocean Course Hokuala. A portion will be donated back to the “Aloha Movement”. Driver’s license required to operate golf cart.
URL:https://www.golfhokuala.com/event/sunrise-hui-aloha/2026-09-29/
LOCATION:Ocean Course Hokuala\, 3132 Ninini Point St\, Lihue\, Hawaii\, 96766
END:VEVENT
BEGIN:VEVENT
DTSTART;TZID=UTC:20261006T063000
DTEND;TZID=UTC:20261006T080000
DTSTAMP:20260423T000135
CREATED:20260306T125604Z
LAST-MODIFIED:20260306T125607Z
UID:10000116-1791268200-1791273600@www.golfhokuala.com
SUMMARY:Sunrise Hui Aloha
DESCRIPTION:Celebrate the start of another Glorious Day\, join us Tuesdays 6:30 AM – 8:00 AM for a Sunrise greeting with an Alaka`i (tour guide). Stroll through the farm at Hokuala\, drive through the enchanted forest of mango grove\, listen to ancient Hawaiian ‘olelo (stories) of the area while enjoying stunning mountain and ocean views of the Ocean Course Hokuala. A portion will be donated back to the “Aloha Movement”. Driver’s license required to operate golf cart.
URL:https://www.golfhokuala.com/event/sunrise-hui-aloha/2026-10-06/
LOCATION:Ocean Course Hokuala\, 3132 Ninini Point St\, Lihue\, Hawaii\, 96766
END:VEVENT
BEGIN:VEVENT
DTSTART;TZID=UTC:20261013T063000
DTEND;TZID=UTC:20261013T080000
DTSTAMP:20260423T000135
CREATED:20260306T125604Z
LAST-MODIFIED:20260306T125607Z
UID:10000117-1791873000-1791878400@www.golfhokuala.com
SUMMARY:Sunrise Hui Aloha
DESCRIPTION:Celebrate the start of another Glorious Day\, join us Tuesdays 6:30 AM – 8:00 AM for a Sunrise greeting with an Alaka`i (tour guide). Stroll through the farm at Hokuala\, drive through the enchanted forest of mango grove\, listen to ancient Hawaiian ‘olelo (stories) of the area while enjoying stunning mountain and ocean views of the Ocean Course Hokuala. A portion will be donated back to the “Aloha Movement”. Driver’s license required to operate golf cart.
URL:https://www.golfhokuala.com/event/sunrise-hui-aloha/2026-10-13/
LOCATION:Ocean Course Hokuala\, 3132 Ninini Point St\, Lihue\, Hawaii\, 96766
END:VEVENT
BEGIN:VEVENT
DTSTART;TZID=UTC:20261020T063000
DTEND;TZID=UTC:20261020T080000
DTSTAMP:20260423T000135
CREATED:20260306T125604Z
LAST-MODIFIED:20260306T125607Z
UID:10000118-1792477800-1792483200@www.golfhokuala.com
SUMMARY:Sunrise Hui Aloha
DESCRIPTION:Celebrate the start of another Glorious Day\, join us Tuesdays 6:30 AM – 8:00 AM for a Sunrise greeting with an Alaka`i (tour guide). Stroll through the farm at Hokuala\, drive through the enchanted forest of mango grove\, listen to ancient Hawaiian ‘olelo (stories) of the area while enjoying stunning mountain and ocean views of the Ocean Course Hokuala. A portion will be donated back to the “Aloha Movement”. Driver’s license required to operate golf cart.
URL:https://www.golfhokuala.com/event/sunrise-hui-aloha/2026-10-20/
LOCATION:Ocean Course Hokuala\, 3132 Ninini Point St\, Lihue\, Hawaii\, 96766
END:VEVENT
BEGIN:VEVENT
DTSTART;TZID=UTC:20261027T063000
DTEND;TZID=UTC:20261027T080000
DTSTAMP:20260423T000135
CREATED:20260306T125604Z
LAST-MODIFIED:20260306T125607Z
UID:10000119-1793082600-1793088000@www.golfhokuala.com
SUMMARY:Sunrise Hui Aloha
DESCRIPTION:Celebrate the start of another Glorious Day\, join us Tuesdays 6:30 AM – 8:00 AM for a Sunrise greeting with an Alaka`i (tour guide). Stroll through the farm at Hokuala\, drive through the enchanted forest of mango grove\, listen to ancient Hawaiian ‘olelo (stories) of the area while enjoying stunning mountain and ocean views of the Ocean Course Hokuala. A portion will be donated back to the “Aloha Movement”. Driver’s license required to operate golf cart.
URL:https://www.golfhokuala.com/event/sunrise-hui-aloha/2026-10-27/
LOCATION:Ocean Course Hokuala\, 3132 Ninini Point St\, Lihue\, Hawaii\, 96766
END:VEVENT
BEGIN:VEVENT
DTSTART;TZID=UTC:20261103T063000
DTEND;TZID=UTC:20261103T080000
DTSTAMP:20260423T000135
CREATED:20260306T125604Z
LAST-MODIFIED:20260306T125607Z
UID:10000120-1793687400-1793692800@www.golfhokuala.com
SUMMARY:Sunrise Hui Aloha
DESCRIPTION:Celebrate the start of another Glorious Day\, join us Tuesdays 6:30 AM – 8:00 AM for a Sunrise greeting with an Alaka`i (tour guide). Stroll through the farm at Hokuala\, drive through the enchanted forest of mango grove\, listen to ancient Hawaiian ‘olelo (stories) of the area while enjoying stunning mountain and ocean views of the Ocean Course Hokuala. A portion will be donated back to the “Aloha Movement”. Driver’s license required to operate golf cart.
URL:https://www.golfhokuala.com/event/sunrise-hui-aloha/2026-11-03/
LOCATION:Ocean Course Hokuala\, 3132 Ninini Point St\, Lihue\, Hawaii\, 96766
END:VEVENT
BEGIN:VEVENT
DTSTART;TZID=UTC:20261110T063000
DTEND;TZID=UTC:20261110T080000
DTSTAMP:20260423T000135
CREATED:20260306T125604Z
LAST-MODIFIED:20260306T125607Z
UID:10000121-1794292200-1794297600@www.golfhokuala.com
SUMMARY:Sunrise Hui Aloha
DESCRIPTION:Celebrate the start of another Glorious Day\, join us Tuesdays 6:30 AM – 8:00 AM for a Sunrise greeting with an Alaka`i (tour guide). Stroll through the farm at Hokuala\, drive through the enchanted forest of mango grove\, listen to ancient Hawaiian ‘olelo (stories) of the area while enjoying stunning mountain and ocean views of the Ocean Course Hokuala. A portion will be donated back to the “Aloha Movement”. Driver’s license required to operate golf cart.
URL:https://www.golfhokuala.com/event/sunrise-hui-aloha/2026-11-10/
LOCATION:Ocean Course Hokuala\, 3132 Ninini Point St\, Lihue\, Hawaii\, 96766
END:VEVENT
BEGIN:VEVENT
DTSTART;TZID=UTC:20261117T063000
DTEND;TZID=UTC:20261117T080000
DTSTAMP:20260423T000135
CREATED:20260306T125604Z
LAST-MODIFIED:20260306T125607Z
UID:10000122-1794897000-1794902400@www.golfhokuala.com
SUMMARY:Sunrise Hui Aloha
DESCRIPTION:Celebrate the start of another Glorious Day\, join us Tuesdays 6:30 AM – 8:00 AM for a Sunrise greeting with an Alaka`i (tour guide). Stroll through the farm at Hokuala\, drive through the enchanted forest of mango grove\, listen to ancient Hawaiian ‘olelo (stories) of the area while enjoying stunning mountain and ocean views of the Ocean Course Hokuala. A portion will be donated back to the “Aloha Movement”. Driver’s license required to operate golf cart.
URL:https://www.golfhokuala.com/event/sunrise-hui-aloha/2026-11-17/
LOCATION:Ocean Course Hokuala\, 3132 Ninini Point St\, Lihue\, Hawaii\, 96766
END:VEVENT
END:VCALENDAR