BEGIN:VCALENDAR
VERSION:2.0
PRODID:-//Ocean Course Hokuala - ECPv6.15.18//NONSGML v1.0//EN
CALSCALE:GREGORIAN
METHOD:PUBLISH
X-ORIGINAL-URL:https://www.golfhokuala.com
X-WR-CALDESC:Events for Ocean Course Hokuala
REFRESH-INTERVAL;VALUE=DURATION:PT1H
X-Robots-Tag:noindex
X-PUBLISHED-TTL:PT1H
BEGIN:VTIMEZONE
TZID:UTC
BEGIN:STANDARD
TZOFFSETFROM:+0000
TZOFFSETTO:+0000
TZNAME:UTC
DTSTART:20250101T000000
END:STANDARD
END:VTIMEZONE
BEGIN:VEVENT
DTSTART;TZID=UTC:20260717T090000
DTEND;TZID=UTC:20260717T100000
DTSTAMP:20260423T054510
CREATED:20260306T143723Z
LAST-MODIFIED:20260306T143728Z
UID:10000200-1784278800-1784282400@www.golfhokuala.com
SUMMARY:Aloha Swing Clinics
DESCRIPTION:Monday\, Wednesday\, Friday 9:00 AM clinics.  For beginners and those looking for a refresher. Beautiful time of the day to enjoy our morning clinic with the trade winds keeping you cool. \n\n\n\nCost $55 (includes club rental)
URL:https://www.golfhokuala.com/event/aloha-swing-clinics/2026-07-17/
LOCATION:ocean course hokuala\, 3132 Ninini Point Street\, Lihue\, Hawaii\, 96766
ORGANIZER;CN="Kellie Hines PGA":MAILTO:khines@golfhokuala.com
END:VEVENT
BEGIN:VEVENT
DTSTART;TZID=UTC:20260720T090000
DTEND;TZID=UTC:20260720T100000
DTSTAMP:20260423T054510
CREATED:20260306T143723Z
LAST-MODIFIED:20260306T143728Z
UID:10000201-1784538000-1784541600@www.golfhokuala.com
SUMMARY:Aloha Swing Clinics
DESCRIPTION:Monday\, Wednesday\, Friday 9:00 AM clinics.  For beginners and those looking for a refresher. Beautiful time of the day to enjoy our morning clinic with the trade winds keeping you cool. \n\n\n\nCost $55 (includes club rental)
URL:https://www.golfhokuala.com/event/aloha-swing-clinics/2026-07-20/
LOCATION:ocean course hokuala\, 3132 Ninini Point Street\, Lihue\, Hawaii\, 96766
ORGANIZER;CN="Kellie Hines PGA":MAILTO:khines@golfhokuala.com
END:VEVENT
BEGIN:VEVENT
DTSTART;TZID=UTC:20260722T090000
DTEND;TZID=UTC:20260722T100000
DTSTAMP:20260423T054510
CREATED:20260306T143723Z
LAST-MODIFIED:20260306T143728Z
UID:10000202-1784710800-1784714400@www.golfhokuala.com
SUMMARY:Aloha Swing Clinics
DESCRIPTION:Monday\, Wednesday\, Friday 9:00 AM clinics.  For beginners and those looking for a refresher. Beautiful time of the day to enjoy our morning clinic with the trade winds keeping you cool. \n\n\n\nCost $55 (includes club rental)
URL:https://www.golfhokuala.com/event/aloha-swing-clinics/2026-07-22/
LOCATION:ocean course hokuala\, 3132 Ninini Point Street\, Lihue\, Hawaii\, 96766
ORGANIZER;CN="Kellie Hines PGA":MAILTO:khines@golfhokuala.com
END:VEVENT
BEGIN:VEVENT
DTSTART;TZID=UTC:20260724T090000
DTEND;TZID=UTC:20260724T100000
DTSTAMP:20260423T054510
CREATED:20260306T143723Z
LAST-MODIFIED:20260306T143728Z
UID:10000203-1784883600-1784887200@www.golfhokuala.com
SUMMARY:Aloha Swing Clinics
DESCRIPTION:Monday\, Wednesday\, Friday 9:00 AM clinics.  For beginners and those looking for a refresher. Beautiful time of the day to enjoy our morning clinic with the trade winds keeping you cool. \n\n\n\nCost $55 (includes club rental)
URL:https://www.golfhokuala.com/event/aloha-swing-clinics/2026-07-24/
LOCATION:ocean course hokuala\, 3132 Ninini Point Street\, Lihue\, Hawaii\, 96766
ORGANIZER;CN="Kellie Hines PGA":MAILTO:khines@golfhokuala.com
END:VEVENT
BEGIN:VEVENT
DTSTART;TZID=UTC:20260727T090000
DTEND;TZID=UTC:20260727T100000
DTSTAMP:20260423T054510
CREATED:20260306T143723Z
LAST-MODIFIED:20260306T143728Z
UID:10000204-1785142800-1785146400@www.golfhokuala.com
SUMMARY:Aloha Swing Clinics
DESCRIPTION:Monday\, Wednesday\, Friday 9:00 AM clinics.  For beginners and those looking for a refresher. Beautiful time of the day to enjoy our morning clinic with the trade winds keeping you cool. \n\n\n\nCost $55 (includes club rental)
URL:https://www.golfhokuala.com/event/aloha-swing-clinics/2026-07-27/
LOCATION:ocean course hokuala\, 3132 Ninini Point Street\, Lihue\, Hawaii\, 96766
ORGANIZER;CN="Kellie Hines PGA":MAILTO:khines@golfhokuala.com
END:VEVENT
BEGIN:VEVENT
DTSTART;TZID=UTC:20260729T090000
DTEND;TZID=UTC:20260729T100000
DTSTAMP:20260423T054510
CREATED:20260306T143723Z
LAST-MODIFIED:20260306T143728Z
UID:10000205-1785315600-1785319200@www.golfhokuala.com
SUMMARY:Aloha Swing Clinics
DESCRIPTION:Monday\, Wednesday\, Friday 9:00 AM clinics.  For beginners and those looking for a refresher. Beautiful time of the day to enjoy our morning clinic with the trade winds keeping you cool. \n\n\n\nCost $55 (includes club rental)
URL:https://www.golfhokuala.com/event/aloha-swing-clinics/2026-07-29/
LOCATION:ocean course hokuala\, 3132 Ninini Point Street\, Lihue\, Hawaii\, 96766
ORGANIZER;CN="Kellie Hines PGA":MAILTO:khines@golfhokuala.com
END:VEVENT
BEGIN:VEVENT
DTSTART;TZID=UTC:20260731T090000
DTEND;TZID=UTC:20260731T100000
DTSTAMP:20260423T054510
CREATED:20260306T143723Z
LAST-MODIFIED:20260306T143728Z
UID:10000206-1785488400-1785492000@www.golfhokuala.com
SUMMARY:Aloha Swing Clinics
DESCRIPTION:Monday\, Wednesday\, Friday 9:00 AM clinics.  For beginners and those looking for a refresher. Beautiful time of the day to enjoy our morning clinic with the trade winds keeping you cool. \n\n\n\nCost $55 (includes club rental)
URL:https://www.golfhokuala.com/event/aloha-swing-clinics/2026-07-31/
LOCATION:ocean course hokuala\, 3132 Ninini Point Street\, Lihue\, Hawaii\, 96766
ORGANIZER;CN="Kellie Hines PGA":MAILTO:khines@golfhokuala.com
END:VEVENT
BEGIN:VEVENT
DTSTART;TZID=UTC:20260803T090000
DTEND;TZID=UTC:20260803T100000
DTSTAMP:20260423T054510
CREATED:20260306T143723Z
LAST-MODIFIED:20260306T143728Z
UID:10000207-1785747600-1785751200@www.golfhokuala.com
SUMMARY:Aloha Swing Clinics
DESCRIPTION:Monday\, Wednesday\, Friday 9:00 AM clinics.  For beginners and those looking for a refresher. Beautiful time of the day to enjoy our morning clinic with the trade winds keeping you cool. \n\n\n\nCost $55 (includes club rental)
URL:https://www.golfhokuala.com/event/aloha-swing-clinics/2026-08-03/
LOCATION:ocean course hokuala\, 3132 Ninini Point Street\, Lihue\, Hawaii\, 96766
ORGANIZER;CN="Kellie Hines PGA":MAILTO:khines@golfhokuala.com
END:VEVENT
BEGIN:VEVENT
DTSTART;TZID=UTC:20260805T090000
DTEND;TZID=UTC:20260805T100000
DTSTAMP:20260423T054510
CREATED:20260306T143723Z
LAST-MODIFIED:20260306T143728Z
UID:10000208-1785920400-1785924000@www.golfhokuala.com
SUMMARY:Aloha Swing Clinics
DESCRIPTION:Monday\, Wednesday\, Friday 9:00 AM clinics.  For beginners and those looking for a refresher. Beautiful time of the day to enjoy our morning clinic with the trade winds keeping you cool. \n\n\n\nCost $55 (includes club rental)
URL:https://www.golfhokuala.com/event/aloha-swing-clinics/2026-08-05/
LOCATION:ocean course hokuala\, 3132 Ninini Point Street\, Lihue\, Hawaii\, 96766
ORGANIZER;CN="Kellie Hines PGA":MAILTO:khines@golfhokuala.com
END:VEVENT
BEGIN:VEVENT
DTSTART;TZID=UTC:20260807T090000
DTEND;TZID=UTC:20260807T100000
DTSTAMP:20260423T054510
CREATED:20260306T143723Z
LAST-MODIFIED:20260306T143728Z
UID:10000209-1786093200-1786096800@www.golfhokuala.com
SUMMARY:Aloha Swing Clinics
DESCRIPTION:Monday\, Wednesday\, Friday 9:00 AM clinics.  For beginners and those looking for a refresher. Beautiful time of the day to enjoy our morning clinic with the trade winds keeping you cool. \n\n\n\nCost $55 (includes club rental)
URL:https://www.golfhokuala.com/event/aloha-swing-clinics/2026-08-07/
LOCATION:ocean course hokuala\, 3132 Ninini Point Street\, Lihue\, Hawaii\, 96766
ORGANIZER;CN="Kellie Hines PGA":MAILTO:khines@golfhokuala.com
END:VEVENT
BEGIN:VEVENT
DTSTART;TZID=UTC:20260810T090000
DTEND;TZID=UTC:20260810T100000
DTSTAMP:20260423T054510
CREATED:20260306T143723Z
LAST-MODIFIED:20260306T143728Z
UID:10000210-1786352400-1786356000@www.golfhokuala.com
SUMMARY:Aloha Swing Clinics
DESCRIPTION:Monday\, Wednesday\, Friday 9:00 AM clinics.  For beginners and those looking for a refresher. Beautiful time of the day to enjoy our morning clinic with the trade winds keeping you cool. \n\n\n\nCost $55 (includes club rental)
URL:https://www.golfhokuala.com/event/aloha-swing-clinics/2026-08-10/
LOCATION:ocean course hokuala\, 3132 Ninini Point Street\, Lihue\, Hawaii\, 96766
ORGANIZER;CN="Kellie Hines PGA":MAILTO:khines@golfhokuala.com
END:VEVENT
BEGIN:VEVENT
DTSTART;TZID=UTC:20260812T090000
DTEND;TZID=UTC:20260812T100000
DTSTAMP:20260423T054510
CREATED:20260306T143723Z
LAST-MODIFIED:20260306T143728Z
UID:10000211-1786525200-1786528800@www.golfhokuala.com
SUMMARY:Aloha Swing Clinics
DESCRIPTION:Monday\, Wednesday\, Friday 9:00 AM clinics.  For beginners and those looking for a refresher. Beautiful time of the day to enjoy our morning clinic with the trade winds keeping you cool. \n\n\n\nCost $55 (includes club rental)
URL:https://www.golfhokuala.com/event/aloha-swing-clinics/2026-08-12/
LOCATION:ocean course hokuala\, 3132 Ninini Point Street\, Lihue\, Hawaii\, 96766
ORGANIZER;CN="Kellie Hines PGA":MAILTO:khines@golfhokuala.com
END:VEVENT
BEGIN:VEVENT
DTSTART;TZID=UTC:20260814T090000
DTEND;TZID=UTC:20260814T100000
DTSTAMP:20260423T054510
CREATED:20260306T143723Z
LAST-MODIFIED:20260306T143728Z
UID:10000212-1786698000-1786701600@www.golfhokuala.com
SUMMARY:Aloha Swing Clinics
DESCRIPTION:Monday\, Wednesday\, Friday 9:00 AM clinics.  For beginners and those looking for a refresher. Beautiful time of the day to enjoy our morning clinic with the trade winds keeping you cool. \n\n\n\nCost $55 (includes club rental)
URL:https://www.golfhokuala.com/event/aloha-swing-clinics/2026-08-14/
LOCATION:ocean course hokuala\, 3132 Ninini Point Street\, Lihue\, Hawaii\, 96766
ORGANIZER;CN="Kellie Hines PGA":MAILTO:khines@golfhokuala.com
END:VEVENT
BEGIN:VEVENT
DTSTART;TZID=UTC:20260817T090000
DTEND;TZID=UTC:20260817T100000
DTSTAMP:20260423T054510
CREATED:20260306T143723Z
LAST-MODIFIED:20260306T143728Z
UID:10000213-1786957200-1786960800@www.golfhokuala.com
SUMMARY:Aloha Swing Clinics
DESCRIPTION:Monday\, Wednesday\, Friday 9:00 AM clinics.  For beginners and those looking for a refresher. Beautiful time of the day to enjoy our morning clinic with the trade winds keeping you cool. \n\n\n\nCost $55 (includes club rental)
URL:https://www.golfhokuala.com/event/aloha-swing-clinics/2026-08-17/
LOCATION:ocean course hokuala\, 3132 Ninini Point Street\, Lihue\, Hawaii\, 96766
ORGANIZER;CN="Kellie Hines PGA":MAILTO:khines@golfhokuala.com
END:VEVENT
BEGIN:VEVENT
DTSTART;TZID=UTC:20260819T090000
DTEND;TZID=UTC:20260819T100000
DTSTAMP:20260423T054510
CREATED:20260306T143723Z
LAST-MODIFIED:20260306T143728Z
UID:10000214-1787130000-1787133600@www.golfhokuala.com
SUMMARY:Aloha Swing Clinics
DESCRIPTION:Monday\, Wednesday\, Friday 9:00 AM clinics.  For beginners and those looking for a refresher. Beautiful time of the day to enjoy our morning clinic with the trade winds keeping you cool. \n\n\n\nCost $55 (includes club rental)
URL:https://www.golfhokuala.com/event/aloha-swing-clinics/2026-08-19/
LOCATION:ocean course hokuala\, 3132 Ninini Point Street\, Lihue\, Hawaii\, 96766
ORGANIZER;CN="Kellie Hines PGA":MAILTO:khines@golfhokuala.com
END:VEVENT
BEGIN:VEVENT
DTSTART;TZID=UTC:20260821T090000
DTEND;TZID=UTC:20260821T100000
DTSTAMP:20260423T054510
CREATED:20260306T143723Z
LAST-MODIFIED:20260306T143728Z
UID:10000215-1787302800-1787306400@www.golfhokuala.com
SUMMARY:Aloha Swing Clinics
DESCRIPTION:Monday\, Wednesday\, Friday 9:00 AM clinics.  For beginners and those looking for a refresher. Beautiful time of the day to enjoy our morning clinic with the trade winds keeping you cool. \n\n\n\nCost $55 (includes club rental)
URL:https://www.golfhokuala.com/event/aloha-swing-clinics/2026-08-21/
LOCATION:ocean course hokuala\, 3132 Ninini Point Street\, Lihue\, Hawaii\, 96766
ORGANIZER;CN="Kellie Hines PGA":MAILTO:khines@golfhokuala.com
END:VEVENT
BEGIN:VEVENT
DTSTART;TZID=UTC:20260824T090000
DTEND;TZID=UTC:20260824T100000
DTSTAMP:20260423T054510
CREATED:20260306T143723Z
LAST-MODIFIED:20260306T143728Z
UID:10000216-1787562000-1787565600@www.golfhokuala.com
SUMMARY:Aloha Swing Clinics
DESCRIPTION:Monday\, Wednesday\, Friday 9:00 AM clinics.  For beginners and those looking for a refresher. Beautiful time of the day to enjoy our morning clinic with the trade winds keeping you cool. \n\n\n\nCost $55 (includes club rental)
URL:https://www.golfhokuala.com/event/aloha-swing-clinics/2026-08-24/
LOCATION:ocean course hokuala\, 3132 Ninini Point Street\, Lihue\, Hawaii\, 96766
ORGANIZER;CN="Kellie Hines PGA":MAILTO:khines@golfhokuala.com
END:VEVENT
BEGIN:VEVENT
DTSTART;TZID=UTC:20260826T090000
DTEND;TZID=UTC:20260826T100000
DTSTAMP:20260423T054510
CREATED:20260306T143723Z
LAST-MODIFIED:20260306T143728Z
UID:10000217-1787734800-1787738400@www.golfhokuala.com
SUMMARY:Aloha Swing Clinics
DESCRIPTION:Monday\, Wednesday\, Friday 9:00 AM clinics.  For beginners and those looking for a refresher. Beautiful time of the day to enjoy our morning clinic with the trade winds keeping you cool. \n\n\n\nCost $55 (includes club rental)
URL:https://www.golfhokuala.com/event/aloha-swing-clinics/2026-08-26/
LOCATION:ocean course hokuala\, 3132 Ninini Point Street\, Lihue\, Hawaii\, 96766
ORGANIZER;CN="Kellie Hines PGA":MAILTO:khines@golfhokuala.com
END:VEVENT
BEGIN:VEVENT
DTSTART;TZID=UTC:20260828T090000
DTEND;TZID=UTC:20260828T100000
DTSTAMP:20260423T054510
CREATED:20260306T143723Z
LAST-MODIFIED:20260306T143728Z
UID:10000218-1787907600-1787911200@www.golfhokuala.com
SUMMARY:Aloha Swing Clinics
DESCRIPTION:Monday\, Wednesday\, Friday 9:00 AM clinics.  For beginners and those looking for a refresher. Beautiful time of the day to enjoy our morning clinic with the trade winds keeping you cool. \n\n\n\nCost $55 (includes club rental)
URL:https://www.golfhokuala.com/event/aloha-swing-clinics/2026-08-28/
LOCATION:ocean course hokuala\, 3132 Ninini Point Street\, Lihue\, Hawaii\, 96766
ORGANIZER;CN="Kellie Hines PGA":MAILTO:khines@golfhokuala.com
END:VEVENT
BEGIN:VEVENT
DTSTART;TZID=UTC:20260831T090000
DTEND;TZID=UTC:20260831T100000
DTSTAMP:20260423T054510
CREATED:20260306T143723Z
LAST-MODIFIED:20260306T143728Z
UID:10000219-1788166800-1788170400@www.golfhokuala.com
SUMMARY:Aloha Swing Clinics
DESCRIPTION:Monday\, Wednesday\, Friday 9:00 AM clinics.  For beginners and those looking for a refresher. Beautiful time of the day to enjoy our morning clinic with the trade winds keeping you cool. \n\n\n\nCost $55 (includes club rental)
URL:https://www.golfhokuala.com/event/aloha-swing-clinics/2026-08-31/
LOCATION:ocean course hokuala\, 3132 Ninini Point Street\, Lihue\, Hawaii\, 96766
ORGANIZER;CN="Kellie Hines PGA":MAILTO:khines@golfhokuala.com
END:VEVENT
BEGIN:VEVENT
DTSTART;TZID=UTC:20260902T090000
DTEND;TZID=UTC:20260902T100000
DTSTAMP:20260423T054510
CREATED:20260306T143723Z
LAST-MODIFIED:20260306T143728Z
UID:10000220-1788339600-1788343200@www.golfhokuala.com
SUMMARY:Aloha Swing Clinics
DESCRIPTION:Monday\, Wednesday\, Friday 9:00 AM clinics.  For beginners and those looking for a refresher. Beautiful time of the day to enjoy our morning clinic with the trade winds keeping you cool. \n\n\n\nCost $55 (includes club rental)
URL:https://www.golfhokuala.com/event/aloha-swing-clinics/2026-09-02/
LOCATION:ocean course hokuala\, 3132 Ninini Point Street\, Lihue\, Hawaii\, 96766
ORGANIZER;CN="Kellie Hines PGA":MAILTO:khines@golfhokuala.com
END:VEVENT
BEGIN:VEVENT
DTSTART;TZID=UTC:20260904T090000
DTEND;TZID=UTC:20260904T100000
DTSTAMP:20260423T054510
CREATED:20260306T143723Z
LAST-MODIFIED:20260306T143728Z
UID:10000221-1788512400-1788516000@www.golfhokuala.com
SUMMARY:Aloha Swing Clinics
DESCRIPTION:Monday\, Wednesday\, Friday 9:00 AM clinics.  For beginners and those looking for a refresher. Beautiful time of the day to enjoy our morning clinic with the trade winds keeping you cool. \n\n\n\nCost $55 (includes club rental)
URL:https://www.golfhokuala.com/event/aloha-swing-clinics/2026-09-04/
LOCATION:ocean course hokuala\, 3132 Ninini Point Street\, Lihue\, Hawaii\, 96766
ORGANIZER;CN="Kellie Hines PGA":MAILTO:khines@golfhokuala.com
END:VEVENT
BEGIN:VEVENT
DTSTART;TZID=UTC:20260907T090000
DTEND;TZID=UTC:20260907T100000
DTSTAMP:20260423T054510
CREATED:20260306T143723Z
LAST-MODIFIED:20260306T143728Z
UID:10000222-1788771600-1788775200@www.golfhokuala.com
SUMMARY:Aloha Swing Clinics
DESCRIPTION:Monday\, Wednesday\, Friday 9:00 AM clinics.  For beginners and those looking for a refresher. Beautiful time of the day to enjoy our morning clinic with the trade winds keeping you cool. \n\n\n\nCost $55 (includes club rental)
URL:https://www.golfhokuala.com/event/aloha-swing-clinics/2026-09-07/
LOCATION:ocean course hokuala\, 3132 Ninini Point Street\, Lihue\, Hawaii\, 96766
ORGANIZER;CN="Kellie Hines PGA":MAILTO:khines@golfhokuala.com
END:VEVENT
BEGIN:VEVENT
DTSTART;TZID=UTC:20260909T090000
DTEND;TZID=UTC:20260909T100000
DTSTAMP:20260423T054510
CREATED:20260306T143723Z
LAST-MODIFIED:20260306T143728Z
UID:10000223-1788944400-1788948000@www.golfhokuala.com
SUMMARY:Aloha Swing Clinics
DESCRIPTION:Monday\, Wednesday\, Friday 9:00 AM clinics.  For beginners and those looking for a refresher. Beautiful time of the day to enjoy our morning clinic with the trade winds keeping you cool. \n\n\n\nCost $55 (includes club rental)
URL:https://www.golfhokuala.com/event/aloha-swing-clinics/2026-09-09/
LOCATION:ocean course hokuala\, 3132 Ninini Point Street\, Lihue\, Hawaii\, 96766
ORGANIZER;CN="Kellie Hines PGA":MAILTO:khines@golfhokuala.com
END:VEVENT
BEGIN:VEVENT
DTSTART;TZID=UTC:20260911T090000
DTEND;TZID=UTC:20260911T100000
DTSTAMP:20260423T054510
CREATED:20260306T143723Z
LAST-MODIFIED:20260306T143728Z
UID:10000224-1789117200-1789120800@www.golfhokuala.com
SUMMARY:Aloha Swing Clinics
DESCRIPTION:Monday\, Wednesday\, Friday 9:00 AM clinics.  For beginners and those looking for a refresher. Beautiful time of the day to enjoy our morning clinic with the trade winds keeping you cool. \n\n\n\nCost $55 (includes club rental)
URL:https://www.golfhokuala.com/event/aloha-swing-clinics/2026-09-11/
LOCATION:ocean course hokuala\, 3132 Ninini Point Street\, Lihue\, Hawaii\, 96766
ORGANIZER;CN="Kellie Hines PGA":MAILTO:khines@golfhokuala.com
END:VEVENT
BEGIN:VEVENT
DTSTART;TZID=UTC:20260914T090000
DTEND;TZID=UTC:20260914T100000
DTSTAMP:20260423T054510
CREATED:20260306T143723Z
LAST-MODIFIED:20260306T143728Z
UID:10000225-1789376400-1789380000@www.golfhokuala.com
SUMMARY:Aloha Swing Clinics
DESCRIPTION:Monday\, Wednesday\, Friday 9:00 AM clinics.  For beginners and those looking for a refresher. Beautiful time of the day to enjoy our morning clinic with the trade winds keeping you cool. \n\n\n\nCost $55 (includes club rental)
URL:https://www.golfhokuala.com/event/aloha-swing-clinics/2026-09-14/
LOCATION:ocean course hokuala\, 3132 Ninini Point Street\, Lihue\, Hawaii\, 96766
ORGANIZER;CN="Kellie Hines PGA":MAILTO:khines@golfhokuala.com
END:VEVENT
BEGIN:VEVENT
DTSTART;TZID=UTC:20260916T090000
DTEND;TZID=UTC:20260916T100000
DTSTAMP:20260423T054510
CREATED:20260306T143723Z
LAST-MODIFIED:20260306T143728Z
UID:10000226-1789549200-1789552800@www.golfhokuala.com
SUMMARY:Aloha Swing Clinics
DESCRIPTION:Monday\, Wednesday\, Friday 9:00 AM clinics.  For beginners and those looking for a refresher. Beautiful time of the day to enjoy our morning clinic with the trade winds keeping you cool. \n\n\n\nCost $55 (includes club rental)
URL:https://www.golfhokuala.com/event/aloha-swing-clinics/2026-09-16/
LOCATION:ocean course hokuala\, 3132 Ninini Point Street\, Lihue\, Hawaii\, 96766
ORGANIZER;CN="Kellie Hines PGA":MAILTO:khines@golfhokuala.com
END:VEVENT
BEGIN:VEVENT
DTSTART;TZID=UTC:20260918T090000
DTEND;TZID=UTC:20260918T100000
DTSTAMP:20260423T054510
CREATED:20260306T143723Z
LAST-MODIFIED:20260306T143728Z
UID:10000227-1789722000-1789725600@www.golfhokuala.com
SUMMARY:Aloha Swing Clinics
DESCRIPTION:Monday\, Wednesday\, Friday 9:00 AM clinics.  For beginners and those looking for a refresher. Beautiful time of the day to enjoy our morning clinic with the trade winds keeping you cool. \n\n\n\nCost $55 (includes club rental)
URL:https://www.golfhokuala.com/event/aloha-swing-clinics/2026-09-18/
LOCATION:ocean course hokuala\, 3132 Ninini Point Street\, Lihue\, Hawaii\, 96766
ORGANIZER;CN="Kellie Hines PGA":MAILTO:khines@golfhokuala.com
END:VEVENT
BEGIN:VEVENT
DTSTART;TZID=UTC:20260921T090000
DTEND;TZID=UTC:20260921T100000
DTSTAMP:20260423T054510
CREATED:20260306T143723Z
LAST-MODIFIED:20260306T143728Z
UID:10000228-1789981200-1789984800@www.golfhokuala.com
SUMMARY:Aloha Swing Clinics
DESCRIPTION:Monday\, Wednesday\, Friday 9:00 AM clinics.  For beginners and those looking for a refresher. Beautiful time of the day to enjoy our morning clinic with the trade winds keeping you cool. \n\n\n\nCost $55 (includes club rental)
URL:https://www.golfhokuala.com/event/aloha-swing-clinics/2026-09-21/
LOCATION:ocean course hokuala\, 3132 Ninini Point Street\, Lihue\, Hawaii\, 96766
ORGANIZER;CN="Kellie Hines PGA":MAILTO:khines@golfhokuala.com
END:VEVENT
BEGIN:VEVENT
DTSTART;TZID=UTC:20260923T090000
DTEND;TZID=UTC:20260923T100000
DTSTAMP:20260423T054510
CREATED:20260306T143723Z
LAST-MODIFIED:20260306T143728Z
UID:10000229-1790154000-1790157600@www.golfhokuala.com
SUMMARY:Aloha Swing Clinics
DESCRIPTION:Monday\, Wednesday\, Friday 9:00 AM clinics.  For beginners and those looking for a refresher. Beautiful time of the day to enjoy our morning clinic with the trade winds keeping you cool. \n\n\n\nCost $55 (includes club rental)
URL:https://www.golfhokuala.com/event/aloha-swing-clinics/2026-09-23/
LOCATION:ocean course hokuala\, 3132 Ninini Point Street\, Lihue\, Hawaii\, 96766
ORGANIZER;CN="Kellie Hines PGA":MAILTO:khines@golfhokuala.com
END:VEVENT
END:VCALENDAR