BEGIN:VCALENDAR
VERSION:2.0
PRODID:-//Ocean Course Hokuala - ECPv6.15.18//NONSGML v1.0//EN
CALSCALE:GREGORIAN
METHOD:PUBLISH
X-WR-CALNAME:Ocean Course Hokuala
X-ORIGINAL-URL:https://www.golfhokuala.com
X-WR-CALDESC:Events for Ocean Course Hokuala
REFRESH-INTERVAL;VALUE=DURATION:PT1H
X-Robots-Tag:noindex
X-PUBLISHED-TTL:PT1H
BEGIN:VTIMEZONE
TZID:UTC
BEGIN:STANDARD
TZOFFSETFROM:+0000
TZOFFSETTO:+0000
TZNAME:UTC
DTSTART:20270101T000000
END:STANDARD
END:VTIMEZONE
BEGIN:VEVENT
DTSTART;TZID=UTC:20280901T090000
DTEND;TZID=UTC:20280901T100000
DTSTAMP:20260424T175745
CREATED:20260306T143723Z
LAST-MODIFIED:20260306T143728Z
UID:10000533-1851411600-1851415200@www.golfhokuala.com
SUMMARY:Aloha Swing Clinics
DESCRIPTION:Monday\, Wednesday\, Friday 9:00 AM clinics.  For beginners and those looking for a refresher. Beautiful time of the day to enjoy our morning clinic with the trade winds keeping you cool. \n\n\n\nCost $55 (includes club rental)
URL:https://www.golfhokuala.com/event/aloha-swing-clinics/2028-09-01/
LOCATION:ocean course hokuala\, 3132 Ninini Point Street\, Lihue\, Hawaii\, 96766
ORGANIZER;CN="Kellie Hines PGA":MAILTO:khines@golfhokuala.com
END:VEVENT
BEGIN:VEVENT
DTSTART;TZID=UTC:20280904T090000
DTEND;TZID=UTC:20280904T100000
DTSTAMP:20260424T175745
CREATED:20260306T143723Z
LAST-MODIFIED:20260306T143728Z
UID:10000534-1851670800-1851674400@www.golfhokuala.com
SUMMARY:Aloha Swing Clinics
DESCRIPTION:Monday\, Wednesday\, Friday 9:00 AM clinics.  For beginners and those looking for a refresher. Beautiful time of the day to enjoy our morning clinic with the trade winds keeping you cool. \n\n\n\nCost $55 (includes club rental)
URL:https://www.golfhokuala.com/event/aloha-swing-clinics/2028-09-04/
LOCATION:ocean course hokuala\, 3132 Ninini Point Street\, Lihue\, Hawaii\, 96766
ORGANIZER;CN="Kellie Hines PGA":MAILTO:khines@golfhokuala.com
END:VEVENT
BEGIN:VEVENT
DTSTART;TZID=UTC:20280906T090000
DTEND;TZID=UTC:20280906T100000
DTSTAMP:20260424T175745
CREATED:20260306T143723Z
LAST-MODIFIED:20260306T143728Z
UID:10000535-1851843600-1851847200@www.golfhokuala.com
SUMMARY:Aloha Swing Clinics
DESCRIPTION:Monday\, Wednesday\, Friday 9:00 AM clinics.  For beginners and those looking for a refresher. Beautiful time of the day to enjoy our morning clinic with the trade winds keeping you cool. \n\n\n\nCost $55 (includes club rental)
URL:https://www.golfhokuala.com/event/aloha-swing-clinics/2028-09-06/
LOCATION:ocean course hokuala\, 3132 Ninini Point Street\, Lihue\, Hawaii\, 96766
ORGANIZER;CN="Kellie Hines PGA":MAILTO:khines@golfhokuala.com
END:VEVENT
BEGIN:VEVENT
DTSTART;TZID=UTC:20280908T090000
DTEND;TZID=UTC:20280908T100000
DTSTAMP:20260424T175745
CREATED:20260306T143723Z
LAST-MODIFIED:20260306T143728Z
UID:10000536-1852016400-1852020000@www.golfhokuala.com
SUMMARY:Aloha Swing Clinics
DESCRIPTION:Monday\, Wednesday\, Friday 9:00 AM clinics.  For beginners and those looking for a refresher. Beautiful time of the day to enjoy our morning clinic with the trade winds keeping you cool. \n\n\n\nCost $55 (includes club rental)
URL:https://www.golfhokuala.com/event/aloha-swing-clinics/2028-09-08/
LOCATION:ocean course hokuala\, 3132 Ninini Point Street\, Lihue\, Hawaii\, 96766
ORGANIZER;CN="Kellie Hines PGA":MAILTO:khines@golfhokuala.com
END:VEVENT
BEGIN:VEVENT
DTSTART;TZID=UTC:20280911T090000
DTEND;TZID=UTC:20280911T100000
DTSTAMP:20260424T175745
CREATED:20260306T143723Z
LAST-MODIFIED:20260306T143728Z
UID:10000537-1852275600-1852279200@www.golfhokuala.com
SUMMARY:Aloha Swing Clinics
DESCRIPTION:Monday\, Wednesday\, Friday 9:00 AM clinics.  For beginners and those looking for a refresher. Beautiful time of the day to enjoy our morning clinic with the trade winds keeping you cool. \n\n\n\nCost $55 (includes club rental)
URL:https://www.golfhokuala.com/event/aloha-swing-clinics/2028-09-11/
LOCATION:ocean course hokuala\, 3132 Ninini Point Street\, Lihue\, Hawaii\, 96766
ORGANIZER;CN="Kellie Hines PGA":MAILTO:khines@golfhokuala.com
END:VEVENT
BEGIN:VEVENT
DTSTART;TZID=UTC:20280913T090000
DTEND;TZID=UTC:20280913T100000
DTSTAMP:20260424T175745
CREATED:20260306T143723Z
LAST-MODIFIED:20260306T143728Z
UID:10000538-1852448400-1852452000@www.golfhokuala.com
SUMMARY:Aloha Swing Clinics
DESCRIPTION:Monday\, Wednesday\, Friday 9:00 AM clinics.  For beginners and those looking for a refresher. Beautiful time of the day to enjoy our morning clinic with the trade winds keeping you cool. \n\n\n\nCost $55 (includes club rental)
URL:https://www.golfhokuala.com/event/aloha-swing-clinics/2028-09-13/
LOCATION:ocean course hokuala\, 3132 Ninini Point Street\, Lihue\, Hawaii\, 96766
ORGANIZER;CN="Kellie Hines PGA":MAILTO:khines@golfhokuala.com
END:VEVENT
BEGIN:VEVENT
DTSTART;TZID=UTC:20280915T090000
DTEND;TZID=UTC:20280915T100000
DTSTAMP:20260424T175745
CREATED:20260306T143723Z
LAST-MODIFIED:20260306T143728Z
UID:10000539-1852621200-1852624800@www.golfhokuala.com
SUMMARY:Aloha Swing Clinics
DESCRIPTION:Monday\, Wednesday\, Friday 9:00 AM clinics.  For beginners and those looking for a refresher. Beautiful time of the day to enjoy our morning clinic with the trade winds keeping you cool. \n\n\n\nCost $55 (includes club rental)
URL:https://www.golfhokuala.com/event/aloha-swing-clinics/2028-09-15/
LOCATION:ocean course hokuala\, 3132 Ninini Point Street\, Lihue\, Hawaii\, 96766
ORGANIZER;CN="Kellie Hines PGA":MAILTO:khines@golfhokuala.com
END:VEVENT
BEGIN:VEVENT
DTSTART;TZID=UTC:20280918T090000
DTEND;TZID=UTC:20280918T100000
DTSTAMP:20260424T175745
CREATED:20260306T143723Z
LAST-MODIFIED:20260306T143728Z
UID:10000540-1852880400-1852884000@www.golfhokuala.com
SUMMARY:Aloha Swing Clinics
DESCRIPTION:Monday\, Wednesday\, Friday 9:00 AM clinics.  For beginners and those looking for a refresher. Beautiful time of the day to enjoy our morning clinic with the trade winds keeping you cool. \n\n\n\nCost $55 (includes club rental)
URL:https://www.golfhokuala.com/event/aloha-swing-clinics/2028-09-18/
LOCATION:ocean course hokuala\, 3132 Ninini Point Street\, Lihue\, Hawaii\, 96766
ORGANIZER;CN="Kellie Hines PGA":MAILTO:khines@golfhokuala.com
END:VEVENT
BEGIN:VEVENT
DTSTART;TZID=UTC:20280920T090000
DTEND;TZID=UTC:20280920T100000
DTSTAMP:20260424T175745
CREATED:20260306T143723Z
LAST-MODIFIED:20260306T143728Z
UID:10000541-1853053200-1853056800@www.golfhokuala.com
SUMMARY:Aloha Swing Clinics
DESCRIPTION:Monday\, Wednesday\, Friday 9:00 AM clinics.  For beginners and those looking for a refresher. Beautiful time of the day to enjoy our morning clinic with the trade winds keeping you cool. \n\n\n\nCost $55 (includes club rental)
URL:https://www.golfhokuala.com/event/aloha-swing-clinics/2028-09-20/
LOCATION:ocean course hokuala\, 3132 Ninini Point Street\, Lihue\, Hawaii\, 96766
ORGANIZER;CN="Kellie Hines PGA":MAILTO:khines@golfhokuala.com
END:VEVENT
BEGIN:VEVENT
DTSTART;TZID=UTC:20280922T090000
DTEND;TZID=UTC:20280922T100000
DTSTAMP:20260424T175745
CREATED:20260306T143723Z
LAST-MODIFIED:20260306T143728Z
UID:10000542-1853226000-1853229600@www.golfhokuala.com
SUMMARY:Aloha Swing Clinics
DESCRIPTION:Monday\, Wednesday\, Friday 9:00 AM clinics.  For beginners and those looking for a refresher. Beautiful time of the day to enjoy our morning clinic with the trade winds keeping you cool. \n\n\n\nCost $55 (includes club rental)
URL:https://www.golfhokuala.com/event/aloha-swing-clinics/2028-09-22/
LOCATION:ocean course hokuala\, 3132 Ninini Point Street\, Lihue\, Hawaii\, 96766
ORGANIZER;CN="Kellie Hines PGA":MAILTO:khines@golfhokuala.com
END:VEVENT
BEGIN:VEVENT
DTSTART;TZID=UTC:20280925T090000
DTEND;TZID=UTC:20280925T100000
DTSTAMP:20260424T175745
CREATED:20260306T143723Z
LAST-MODIFIED:20260306T143728Z
UID:10000543-1853485200-1853488800@www.golfhokuala.com
SUMMARY:Aloha Swing Clinics
DESCRIPTION:Monday\, Wednesday\, Friday 9:00 AM clinics.  For beginners and those looking for a refresher. Beautiful time of the day to enjoy our morning clinic with the trade winds keeping you cool. \n\n\n\nCost $55 (includes club rental)
URL:https://www.golfhokuala.com/event/aloha-swing-clinics/2028-09-25/
LOCATION:ocean course hokuala\, 3132 Ninini Point Street\, Lihue\, Hawaii\, 96766
ORGANIZER;CN="Kellie Hines PGA":MAILTO:khines@golfhokuala.com
END:VEVENT
BEGIN:VEVENT
DTSTART;TZID=UTC:20280927T090000
DTEND;TZID=UTC:20280927T100000
DTSTAMP:20260424T175745
CREATED:20260306T143723Z
LAST-MODIFIED:20260306T143728Z
UID:10000544-1853658000-1853661600@www.golfhokuala.com
SUMMARY:Aloha Swing Clinics
DESCRIPTION:Monday\, Wednesday\, Friday 9:00 AM clinics.  For beginners and those looking for a refresher. Beautiful time of the day to enjoy our morning clinic with the trade winds keeping you cool. \n\n\n\nCost $55 (includes club rental)
URL:https://www.golfhokuala.com/event/aloha-swing-clinics/2028-09-27/
LOCATION:ocean course hokuala\, 3132 Ninini Point Street\, Lihue\, Hawaii\, 96766
ORGANIZER;CN="Kellie Hines PGA":MAILTO:khines@golfhokuala.com
END:VEVENT
BEGIN:VEVENT
DTSTART;TZID=UTC:20280929T090000
DTEND;TZID=UTC:20280929T100000
DTSTAMP:20260424T175745
CREATED:20260306T143723Z
LAST-MODIFIED:20260306T143728Z
UID:10000545-1853830800-1853834400@www.golfhokuala.com
SUMMARY:Aloha Swing Clinics
DESCRIPTION:Monday\, Wednesday\, Friday 9:00 AM clinics.  For beginners and those looking for a refresher. Beautiful time of the day to enjoy our morning clinic with the trade winds keeping you cool. \n\n\n\nCost $55 (includes club rental)
URL:https://www.golfhokuala.com/event/aloha-swing-clinics/2028-09-29/
LOCATION:ocean course hokuala\, 3132 Ninini Point Street\, Lihue\, Hawaii\, 96766
ORGANIZER;CN="Kellie Hines PGA":MAILTO:khines@golfhokuala.com
END:VEVENT
END:VCALENDAR