BEGIN:VCALENDAR
VERSION:2.0
PRODID:-//Ocean Course Hokuala - ECPv6.15.18//NONSGML v1.0//EN
CALSCALE:GREGORIAN
METHOD:PUBLISH
X-ORIGINAL-URL:https://www.golfhokuala.com
X-WR-CALDESC:Events for Ocean Course Hokuala
REFRESH-INTERVAL;VALUE=DURATION:PT1H
X-Robots-Tag:noindex
X-PUBLISHED-TTL:PT1H
BEGIN:VTIMEZONE
TZID:UTC
BEGIN:STANDARD
TZOFFSETFROM:+0000
TZOFFSETTO:+0000
TZNAME:UTC
DTSTART:20270101T000000
END:STANDARD
END:VTIMEZONE
BEGIN:VEVENT
DTSTART;TZID=UTC:20280802T090000
DTEND;TZID=UTC:20280802T100000
DTSTAMP:20260424T162743
CREATED:20260306T143723Z
LAST-MODIFIED:20260306T143728Z
UID:10000520-1848819600-1848823200@www.golfhokuala.com
SUMMARY:Aloha Swing Clinics
DESCRIPTION:Monday\, Wednesday\, Friday 9:00 AM clinics.  For beginners and those looking for a refresher. Beautiful time of the day to enjoy our morning clinic with the trade winds keeping you cool. \n\n\n\nCost $55 (includes club rental)
URL:https://www.golfhokuala.com/event/aloha-swing-clinics/2028-08-02/
LOCATION:ocean course hokuala\, 3132 Ninini Point Street\, Lihue\, Hawaii\, 96766
ORGANIZER;CN="Kellie Hines PGA":MAILTO:khines@golfhokuala.com
END:VEVENT
BEGIN:VEVENT
DTSTART;TZID=UTC:20280804T090000
DTEND;TZID=UTC:20280804T100000
DTSTAMP:20260424T162743
CREATED:20260306T143723Z
LAST-MODIFIED:20260306T143728Z
UID:10000521-1848992400-1848996000@www.golfhokuala.com
SUMMARY:Aloha Swing Clinics
DESCRIPTION:Monday\, Wednesday\, Friday 9:00 AM clinics.  For beginners and those looking for a refresher. Beautiful time of the day to enjoy our morning clinic with the trade winds keeping you cool. \n\n\n\nCost $55 (includes club rental)
URL:https://www.golfhokuala.com/event/aloha-swing-clinics/2028-08-04/
LOCATION:ocean course hokuala\, 3132 Ninini Point Street\, Lihue\, Hawaii\, 96766
ORGANIZER;CN="Kellie Hines PGA":MAILTO:khines@golfhokuala.com
END:VEVENT
BEGIN:VEVENT
DTSTART;TZID=UTC:20280807T090000
DTEND;TZID=UTC:20280807T100000
DTSTAMP:20260424T162743
CREATED:20260306T143723Z
LAST-MODIFIED:20260306T143728Z
UID:10000522-1849251600-1849255200@www.golfhokuala.com
SUMMARY:Aloha Swing Clinics
DESCRIPTION:Monday\, Wednesday\, Friday 9:00 AM clinics.  For beginners and those looking for a refresher. Beautiful time of the day to enjoy our morning clinic with the trade winds keeping you cool. \n\n\n\nCost $55 (includes club rental)
URL:https://www.golfhokuala.com/event/aloha-swing-clinics/2028-08-07/
LOCATION:ocean course hokuala\, 3132 Ninini Point Street\, Lihue\, Hawaii\, 96766
ORGANIZER;CN="Kellie Hines PGA":MAILTO:khines@golfhokuala.com
END:VEVENT
BEGIN:VEVENT
DTSTART;TZID=UTC:20280809T090000
DTEND;TZID=UTC:20280809T100000
DTSTAMP:20260424T162743
CREATED:20260306T143723Z
LAST-MODIFIED:20260306T143728Z
UID:10000523-1849424400-1849428000@www.golfhokuala.com
SUMMARY:Aloha Swing Clinics
DESCRIPTION:Monday\, Wednesday\, Friday 9:00 AM clinics.  For beginners and those looking for a refresher. Beautiful time of the day to enjoy our morning clinic with the trade winds keeping you cool. \n\n\n\nCost $55 (includes club rental)
URL:https://www.golfhokuala.com/event/aloha-swing-clinics/2028-08-09/
LOCATION:ocean course hokuala\, 3132 Ninini Point Street\, Lihue\, Hawaii\, 96766
ORGANIZER;CN="Kellie Hines PGA":MAILTO:khines@golfhokuala.com
END:VEVENT
BEGIN:VEVENT
DTSTART;TZID=UTC:20280811T090000
DTEND;TZID=UTC:20280811T100000
DTSTAMP:20260424T162743
CREATED:20260306T143723Z
LAST-MODIFIED:20260306T143728Z
UID:10000524-1849597200-1849600800@www.golfhokuala.com
SUMMARY:Aloha Swing Clinics
DESCRIPTION:Monday\, Wednesday\, Friday 9:00 AM clinics.  For beginners and those looking for a refresher. Beautiful time of the day to enjoy our morning clinic with the trade winds keeping you cool. \n\n\n\nCost $55 (includes club rental)
URL:https://www.golfhokuala.com/event/aloha-swing-clinics/2028-08-11/
LOCATION:ocean course hokuala\, 3132 Ninini Point Street\, Lihue\, Hawaii\, 96766
ORGANIZER;CN="Kellie Hines PGA":MAILTO:khines@golfhokuala.com
END:VEVENT
BEGIN:VEVENT
DTSTART;TZID=UTC:20280814T090000
DTEND;TZID=UTC:20280814T100000
DTSTAMP:20260424T162743
CREATED:20260306T143723Z
LAST-MODIFIED:20260306T143728Z
UID:10000525-1849856400-1849860000@www.golfhokuala.com
SUMMARY:Aloha Swing Clinics
DESCRIPTION:Monday\, Wednesday\, Friday 9:00 AM clinics.  For beginners and those looking for a refresher. Beautiful time of the day to enjoy our morning clinic with the trade winds keeping you cool. \n\n\n\nCost $55 (includes club rental)
URL:https://www.golfhokuala.com/event/aloha-swing-clinics/2028-08-14/
LOCATION:ocean course hokuala\, 3132 Ninini Point Street\, Lihue\, Hawaii\, 96766
ORGANIZER;CN="Kellie Hines PGA":MAILTO:khines@golfhokuala.com
END:VEVENT
BEGIN:VEVENT
DTSTART;TZID=UTC:20280816T090000
DTEND;TZID=UTC:20280816T100000
DTSTAMP:20260424T162743
CREATED:20260306T143723Z
LAST-MODIFIED:20260306T143728Z
UID:10000526-1850029200-1850032800@www.golfhokuala.com
SUMMARY:Aloha Swing Clinics
DESCRIPTION:Monday\, Wednesday\, Friday 9:00 AM clinics.  For beginners and those looking for a refresher. Beautiful time of the day to enjoy our morning clinic with the trade winds keeping you cool. \n\n\n\nCost $55 (includes club rental)
URL:https://www.golfhokuala.com/event/aloha-swing-clinics/2028-08-16/
LOCATION:ocean course hokuala\, 3132 Ninini Point Street\, Lihue\, Hawaii\, 96766
ORGANIZER;CN="Kellie Hines PGA":MAILTO:khines@golfhokuala.com
END:VEVENT
BEGIN:VEVENT
DTSTART;TZID=UTC:20280818T090000
DTEND;TZID=UTC:20280818T100000
DTSTAMP:20260424T162743
CREATED:20260306T143723Z
LAST-MODIFIED:20260306T143728Z
UID:10000527-1850202000-1850205600@www.golfhokuala.com
SUMMARY:Aloha Swing Clinics
DESCRIPTION:Monday\, Wednesday\, Friday 9:00 AM clinics.  For beginners and those looking for a refresher. Beautiful time of the day to enjoy our morning clinic with the trade winds keeping you cool. \n\n\n\nCost $55 (includes club rental)
URL:https://www.golfhokuala.com/event/aloha-swing-clinics/2028-08-18/
LOCATION:ocean course hokuala\, 3132 Ninini Point Street\, Lihue\, Hawaii\, 96766
ORGANIZER;CN="Kellie Hines PGA":MAILTO:khines@golfhokuala.com
END:VEVENT
BEGIN:VEVENT
DTSTART;TZID=UTC:20280821T090000
DTEND;TZID=UTC:20280821T100000
DTSTAMP:20260424T162743
CREATED:20260306T143723Z
LAST-MODIFIED:20260306T143728Z
UID:10000528-1850461200-1850464800@www.golfhokuala.com
SUMMARY:Aloha Swing Clinics
DESCRIPTION:Monday\, Wednesday\, Friday 9:00 AM clinics.  For beginners and those looking for a refresher. Beautiful time of the day to enjoy our morning clinic with the trade winds keeping you cool. \n\n\n\nCost $55 (includes club rental)
URL:https://www.golfhokuala.com/event/aloha-swing-clinics/2028-08-21/
LOCATION:ocean course hokuala\, 3132 Ninini Point Street\, Lihue\, Hawaii\, 96766
ORGANIZER;CN="Kellie Hines PGA":MAILTO:khines@golfhokuala.com
END:VEVENT
BEGIN:VEVENT
DTSTART;TZID=UTC:20280823T090000
DTEND;TZID=UTC:20280823T100000
DTSTAMP:20260424T162743
CREATED:20260306T143723Z
LAST-MODIFIED:20260306T143728Z
UID:10000529-1850634000-1850637600@www.golfhokuala.com
SUMMARY:Aloha Swing Clinics
DESCRIPTION:Monday\, Wednesday\, Friday 9:00 AM clinics.  For beginners and those looking for a refresher. Beautiful time of the day to enjoy our morning clinic with the trade winds keeping you cool. \n\n\n\nCost $55 (includes club rental)
URL:https://www.golfhokuala.com/event/aloha-swing-clinics/2028-08-23/
LOCATION:ocean course hokuala\, 3132 Ninini Point Street\, Lihue\, Hawaii\, 96766
ORGANIZER;CN="Kellie Hines PGA":MAILTO:khines@golfhokuala.com
END:VEVENT
BEGIN:VEVENT
DTSTART;TZID=UTC:20280825T090000
DTEND;TZID=UTC:20280825T100000
DTSTAMP:20260424T162743
CREATED:20260306T143723Z
LAST-MODIFIED:20260306T143728Z
UID:10000530-1850806800-1850810400@www.golfhokuala.com
SUMMARY:Aloha Swing Clinics
DESCRIPTION:Monday\, Wednesday\, Friday 9:00 AM clinics.  For beginners and those looking for a refresher. Beautiful time of the day to enjoy our morning clinic with the trade winds keeping you cool. \n\n\n\nCost $55 (includes club rental)
URL:https://www.golfhokuala.com/event/aloha-swing-clinics/2028-08-25/
LOCATION:ocean course hokuala\, 3132 Ninini Point Street\, Lihue\, Hawaii\, 96766
ORGANIZER;CN="Kellie Hines PGA":MAILTO:khines@golfhokuala.com
END:VEVENT
BEGIN:VEVENT
DTSTART;TZID=UTC:20280828T090000
DTEND;TZID=UTC:20280828T100000
DTSTAMP:20260424T162743
CREATED:20260306T143723Z
LAST-MODIFIED:20260306T143728Z
UID:10000531-1851066000-1851069600@www.golfhokuala.com
SUMMARY:Aloha Swing Clinics
DESCRIPTION:Monday\, Wednesday\, Friday 9:00 AM clinics.  For beginners and those looking for a refresher. Beautiful time of the day to enjoy our morning clinic with the trade winds keeping you cool. \n\n\n\nCost $55 (includes club rental)
URL:https://www.golfhokuala.com/event/aloha-swing-clinics/2028-08-28/
LOCATION:ocean course hokuala\, 3132 Ninini Point Street\, Lihue\, Hawaii\, 96766
ORGANIZER;CN="Kellie Hines PGA":MAILTO:khines@golfhokuala.com
END:VEVENT
BEGIN:VEVENT
DTSTART;TZID=UTC:20280830T090000
DTEND;TZID=UTC:20280830T100000
DTSTAMP:20260424T162743
CREATED:20260306T143723Z
LAST-MODIFIED:20260306T143728Z
UID:10000532-1851238800-1851242400@www.golfhokuala.com
SUMMARY:Aloha Swing Clinics
DESCRIPTION:Monday\, Wednesday\, Friday 9:00 AM clinics.  For beginners and those looking for a refresher. Beautiful time of the day to enjoy our morning clinic with the trade winds keeping you cool. \n\n\n\nCost $55 (includes club rental)
URL:https://www.golfhokuala.com/event/aloha-swing-clinics/2028-08-30/
LOCATION:ocean course hokuala\, 3132 Ninini Point Street\, Lihue\, Hawaii\, 96766
ORGANIZER;CN="Kellie Hines PGA":MAILTO:khines@golfhokuala.com
END:VEVENT
END:VCALENDAR