BEGIN:VCALENDAR
VERSION:2.0
PRODID:-//Ocean Course Hokuala - ECPv6.15.18//NONSGML v1.0//EN
CALSCALE:GREGORIAN
METHOD:PUBLISH
X-ORIGINAL-URL:https://www.golfhokuala.com
X-WR-CALDESC:Events for Ocean Course Hokuala
REFRESH-INTERVAL;VALUE=DURATION:PT1H
X-Robots-Tag:noindex
X-PUBLISHED-TTL:PT1H
BEGIN:VTIMEZONE
TZID:UTC
BEGIN:STANDARD
TZOFFSETFROM:+0000
TZOFFSETTO:+0000
TZNAME:UTC
DTSTART:20260101T000000
END:STANDARD
END:VTIMEZONE
BEGIN:VEVENT
DTSTART;TZID=UTC:20271101T090000
DTEND;TZID=UTC:20271101T100000
DTSTAMP:20260424T011228
CREATED:20260306T143723Z
LAST-MODIFIED:20260306T143728Z
UID:10000402-1825059600-1825063200@www.golfhokuala.com
SUMMARY:Aloha Swing Clinics
DESCRIPTION:Monday\, Wednesday\, Friday 9:00 AM clinics.  For beginners and those looking for a refresher. Beautiful time of the day to enjoy our morning clinic with the trade winds keeping you cool. \n\n\n\nCost $55 (includes club rental)
URL:https://www.golfhokuala.com/event/aloha-swing-clinics/2027-11-01/
LOCATION:ocean course hokuala\, 3132 Ninini Point Street\, Lihue\, Hawaii\, 96766
ORGANIZER;CN="Kellie Hines PGA":MAILTO:khines@golfhokuala.com
END:VEVENT
BEGIN:VEVENT
DTSTART;TZID=UTC:20271103T090000
DTEND;TZID=UTC:20271103T100000
DTSTAMP:20260424T011228
CREATED:20260306T143723Z
LAST-MODIFIED:20260306T143728Z
UID:10000403-1825232400-1825236000@www.golfhokuala.com
SUMMARY:Aloha Swing Clinics
DESCRIPTION:Monday\, Wednesday\, Friday 9:00 AM clinics.  For beginners and those looking for a refresher. Beautiful time of the day to enjoy our morning clinic with the trade winds keeping you cool. \n\n\n\nCost $55 (includes club rental)
URL:https://www.golfhokuala.com/event/aloha-swing-clinics/2027-11-03/
LOCATION:ocean course hokuala\, 3132 Ninini Point Street\, Lihue\, Hawaii\, 96766
ORGANIZER;CN="Kellie Hines PGA":MAILTO:khines@golfhokuala.com
END:VEVENT
BEGIN:VEVENT
DTSTART;TZID=UTC:20271105T090000
DTEND;TZID=UTC:20271105T100000
DTSTAMP:20260424T011228
CREATED:20260306T143723Z
LAST-MODIFIED:20260306T143728Z
UID:10000404-1825405200-1825408800@www.golfhokuala.com
SUMMARY:Aloha Swing Clinics
DESCRIPTION:Monday\, Wednesday\, Friday 9:00 AM clinics.  For beginners and those looking for a refresher. Beautiful time of the day to enjoy our morning clinic with the trade winds keeping you cool. \n\n\n\nCost $55 (includes club rental)
URL:https://www.golfhokuala.com/event/aloha-swing-clinics/2027-11-05/
LOCATION:ocean course hokuala\, 3132 Ninini Point Street\, Lihue\, Hawaii\, 96766
ORGANIZER;CN="Kellie Hines PGA":MAILTO:khines@golfhokuala.com
END:VEVENT
BEGIN:VEVENT
DTSTART;TZID=UTC:20271108T090000
DTEND;TZID=UTC:20271108T100000
DTSTAMP:20260424T011228
CREATED:20260306T143723Z
LAST-MODIFIED:20260306T143728Z
UID:10000405-1825664400-1825668000@www.golfhokuala.com
SUMMARY:Aloha Swing Clinics
DESCRIPTION:Monday\, Wednesday\, Friday 9:00 AM clinics.  For beginners and those looking for a refresher. Beautiful time of the day to enjoy our morning clinic with the trade winds keeping you cool. \n\n\n\nCost $55 (includes club rental)
URL:https://www.golfhokuala.com/event/aloha-swing-clinics/2027-11-08/
LOCATION:ocean course hokuala\, 3132 Ninini Point Street\, Lihue\, Hawaii\, 96766
ORGANIZER;CN="Kellie Hines PGA":MAILTO:khines@golfhokuala.com
END:VEVENT
BEGIN:VEVENT
DTSTART;TZID=UTC:20271110T090000
DTEND;TZID=UTC:20271110T100000
DTSTAMP:20260424T011228
CREATED:20260306T143723Z
LAST-MODIFIED:20260306T143728Z
UID:10000406-1825837200-1825840800@www.golfhokuala.com
SUMMARY:Aloha Swing Clinics
DESCRIPTION:Monday\, Wednesday\, Friday 9:00 AM clinics.  For beginners and those looking for a refresher. Beautiful time of the day to enjoy our morning clinic with the trade winds keeping you cool. \n\n\n\nCost $55 (includes club rental)
URL:https://www.golfhokuala.com/event/aloha-swing-clinics/2027-11-10/
LOCATION:ocean course hokuala\, 3132 Ninini Point Street\, Lihue\, Hawaii\, 96766
ORGANIZER;CN="Kellie Hines PGA":MAILTO:khines@golfhokuala.com
END:VEVENT
BEGIN:VEVENT
DTSTART;TZID=UTC:20271112T090000
DTEND;TZID=UTC:20271112T100000
DTSTAMP:20260424T011228
CREATED:20260306T143723Z
LAST-MODIFIED:20260306T143728Z
UID:10000407-1826010000-1826013600@www.golfhokuala.com
SUMMARY:Aloha Swing Clinics
DESCRIPTION:Monday\, Wednesday\, Friday 9:00 AM clinics.  For beginners and those looking for a refresher. Beautiful time of the day to enjoy our morning clinic with the trade winds keeping you cool. \n\n\n\nCost $55 (includes club rental)
URL:https://www.golfhokuala.com/event/aloha-swing-clinics/2027-11-12/
LOCATION:ocean course hokuala\, 3132 Ninini Point Street\, Lihue\, Hawaii\, 96766
ORGANIZER;CN="Kellie Hines PGA":MAILTO:khines@golfhokuala.com
END:VEVENT
BEGIN:VEVENT
DTSTART;TZID=UTC:20271115T090000
DTEND;TZID=UTC:20271115T100000
DTSTAMP:20260424T011228
CREATED:20260306T143723Z
LAST-MODIFIED:20260306T143728Z
UID:10000408-1826269200-1826272800@www.golfhokuala.com
SUMMARY:Aloha Swing Clinics
DESCRIPTION:Monday\, Wednesday\, Friday 9:00 AM clinics.  For beginners and those looking for a refresher. Beautiful time of the day to enjoy our morning clinic with the trade winds keeping you cool. \n\n\n\nCost $55 (includes club rental)
URL:https://www.golfhokuala.com/event/aloha-swing-clinics/2027-11-15/
LOCATION:ocean course hokuala\, 3132 Ninini Point Street\, Lihue\, Hawaii\, 96766
ORGANIZER;CN="Kellie Hines PGA":MAILTO:khines@golfhokuala.com
END:VEVENT
BEGIN:VEVENT
DTSTART;TZID=UTC:20271117T090000
DTEND;TZID=UTC:20271117T100000
DTSTAMP:20260424T011228
CREATED:20260306T143723Z
LAST-MODIFIED:20260306T143728Z
UID:10000409-1826442000-1826445600@www.golfhokuala.com
SUMMARY:Aloha Swing Clinics
DESCRIPTION:Monday\, Wednesday\, Friday 9:00 AM clinics.  For beginners and those looking for a refresher. Beautiful time of the day to enjoy our morning clinic with the trade winds keeping you cool. \n\n\n\nCost $55 (includes club rental)
URL:https://www.golfhokuala.com/event/aloha-swing-clinics/2027-11-17/
LOCATION:ocean course hokuala\, 3132 Ninini Point Street\, Lihue\, Hawaii\, 96766
ORGANIZER;CN="Kellie Hines PGA":MAILTO:khines@golfhokuala.com
END:VEVENT
BEGIN:VEVENT
DTSTART;TZID=UTC:20271119T090000
DTEND;TZID=UTC:20271119T100000
DTSTAMP:20260424T011228
CREATED:20260306T143723Z
LAST-MODIFIED:20260306T143728Z
UID:10000410-1826614800-1826618400@www.golfhokuala.com
SUMMARY:Aloha Swing Clinics
DESCRIPTION:Monday\, Wednesday\, Friday 9:00 AM clinics.  For beginners and those looking for a refresher. Beautiful time of the day to enjoy our morning clinic with the trade winds keeping you cool. \n\n\n\nCost $55 (includes club rental)
URL:https://www.golfhokuala.com/event/aloha-swing-clinics/2027-11-19/
LOCATION:ocean course hokuala\, 3132 Ninini Point Street\, Lihue\, Hawaii\, 96766
ORGANIZER;CN="Kellie Hines PGA":MAILTO:khines@golfhokuala.com
END:VEVENT
BEGIN:VEVENT
DTSTART;TZID=UTC:20271122T090000
DTEND;TZID=UTC:20271122T100000
DTSTAMP:20260424T011228
CREATED:20260306T143723Z
LAST-MODIFIED:20260306T143728Z
UID:10000411-1826874000-1826877600@www.golfhokuala.com
SUMMARY:Aloha Swing Clinics
DESCRIPTION:Monday\, Wednesday\, Friday 9:00 AM clinics.  For beginners and those looking for a refresher. Beautiful time of the day to enjoy our morning clinic with the trade winds keeping you cool. \n\n\n\nCost $55 (includes club rental)
URL:https://www.golfhokuala.com/event/aloha-swing-clinics/2027-11-22/
LOCATION:ocean course hokuala\, 3132 Ninini Point Street\, Lihue\, Hawaii\, 96766
ORGANIZER;CN="Kellie Hines PGA":MAILTO:khines@golfhokuala.com
END:VEVENT
BEGIN:VEVENT
DTSTART;TZID=UTC:20271124T090000
DTEND;TZID=UTC:20271124T100000
DTSTAMP:20260424T011228
CREATED:20260306T143723Z
LAST-MODIFIED:20260306T143728Z
UID:10000412-1827046800-1827050400@www.golfhokuala.com
SUMMARY:Aloha Swing Clinics
DESCRIPTION:Monday\, Wednesday\, Friday 9:00 AM clinics.  For beginners and those looking for a refresher. Beautiful time of the day to enjoy our morning clinic with the trade winds keeping you cool. \n\n\n\nCost $55 (includes club rental)
URL:https://www.golfhokuala.com/event/aloha-swing-clinics/2027-11-24/
LOCATION:ocean course hokuala\, 3132 Ninini Point Street\, Lihue\, Hawaii\, 96766
ORGANIZER;CN="Kellie Hines PGA":MAILTO:khines@golfhokuala.com
END:VEVENT
BEGIN:VEVENT
DTSTART;TZID=UTC:20271126T090000
DTEND;TZID=UTC:20271126T100000
DTSTAMP:20260424T011228
CREATED:20260306T143723Z
LAST-MODIFIED:20260306T143728Z
UID:10000413-1827219600-1827223200@www.golfhokuala.com
SUMMARY:Aloha Swing Clinics
DESCRIPTION:Monday\, Wednesday\, Friday 9:00 AM clinics.  For beginners and those looking for a refresher. Beautiful time of the day to enjoy our morning clinic with the trade winds keeping you cool. \n\n\n\nCost $55 (includes club rental)
URL:https://www.golfhokuala.com/event/aloha-swing-clinics/2027-11-26/
LOCATION:ocean course hokuala\, 3132 Ninini Point Street\, Lihue\, Hawaii\, 96766
ORGANIZER;CN="Kellie Hines PGA":MAILTO:khines@golfhokuala.com
END:VEVENT
BEGIN:VEVENT
DTSTART;TZID=UTC:20271129T090000
DTEND;TZID=UTC:20271129T100000
DTSTAMP:20260424T011228
CREATED:20260306T143723Z
LAST-MODIFIED:20260306T143728Z
UID:10000414-1827478800-1827482400@www.golfhokuala.com
SUMMARY:Aloha Swing Clinics
DESCRIPTION:Monday\, Wednesday\, Friday 9:00 AM clinics.  For beginners and those looking for a refresher. Beautiful time of the day to enjoy our morning clinic with the trade winds keeping you cool. \n\n\n\nCost $55 (includes club rental)
URL:https://www.golfhokuala.com/event/aloha-swing-clinics/2027-11-29/
LOCATION:ocean course hokuala\, 3132 Ninini Point Street\, Lihue\, Hawaii\, 96766
ORGANIZER;CN="Kellie Hines PGA":MAILTO:khines@golfhokuala.com
END:VEVENT
END:VCALENDAR