BEGIN:VCALENDAR
VERSION:2.0
PRODID:-//Ocean Course Hokuala - ECPv6.15.18//NONSGML v1.0//EN
CALSCALE:GREGORIAN
METHOD:PUBLISH
X-WR-CALNAME:Ocean Course Hokuala
X-ORIGINAL-URL:https://www.golfhokuala.com
X-WR-CALDESC:Events for Ocean Course Hokuala
REFRESH-INTERVAL;VALUE=DURATION:PT1H
X-Robots-Tag:noindex
X-PUBLISHED-TTL:PT1H
BEGIN:VTIMEZONE
TZID:UTC
BEGIN:STANDARD
TZOFFSETFROM:+0000
TZOFFSETTO:+0000
TZNAME:UTC
DTSTART:20250101T000000
END:STANDARD
END:VTIMEZONE
BEGIN:VTIMEZONE
TZID:Pacific/Honolulu
BEGIN:STANDARD
TZOFFSETFROM:-1000
TZOFFSETTO:-1000
TZNAME:HST
DTSTART:20250101T000000
END:STANDARD
END:VTIMEZONE
BEGIN:VEVENT
DTSTART;TZID=UTC:20260506T090000
DTEND;TZID=UTC:20260506T100000
DTSTAMP:20260422T225857
CREATED:20260306T143723Z
LAST-MODIFIED:20260306T143728Z
UID:10000169-1778058000-1778061600@www.golfhokuala.com
SUMMARY:Aloha Swing Clinics
DESCRIPTION:Monday\, Wednesday\, Friday 9:00 AM clinics.  For beginners and those looking for a refresher. Beautiful time of the day to enjoy our morning clinic with the trade winds keeping you cool. \n\n\n\nCost $55 (includes club rental)
URL:https://www.golfhokuala.com/event/aloha-swing-clinics/2026-05-06/
LOCATION:ocean course hokuala\, 3132 Ninini Point Street\, Lihue\, Hawaii\, 96766
ORGANIZER;CN="Kellie Hines PGA":MAILTO:khines@golfhokuala.com
END:VEVENT
BEGIN:VEVENT
DTSTART;TZID=Pacific/Honolulu:20260505T070000
DTEND;TZID=Pacific/Honolulu:20260505T070000
DTSTAMP:20260422T225857
CREATED:20260422T175316Z
LAST-MODIFIED:20260422T175342Z
UID:10000928-1777964400-1777964400@www.golfhokuala.com
SUMMARY:Cinco de Mayo
DESCRIPTION:
URL:https://www.golfhokuala.com/event/cinco-de-mayo/
LOCATION:Hawaii
ATTACH;FMTTYPE=image/png:https://www.golfhokuala.com/wp-content/uploads/sites/9750/2026/04/May-5th-Cinco-De-Mayo.png
END:VEVENT
BEGIN:VEVENT
DTSTART;TZID=UTC:20260505T063000
DTEND;TZID=UTC:20260505T080000
DTSTAMP:20260422T225857
CREATED:20260306T125604Z
LAST-MODIFIED:20260306T125607Z
UID:10000094-1777962600-1777968000@www.golfhokuala.com
SUMMARY:Sunrise Hui Aloha
DESCRIPTION:Celebrate the start of another Glorious Day\, join us Tuesdays 6:30 AM – 8:00 AM for a Sunrise greeting with an Alaka`i (tour guide). Stroll through the farm at Hokuala\, drive through the enchanted forest of mango grove\, listen to ancient Hawaiian ‘olelo (stories) of the area while enjoying stunning mountain and ocean views of the Ocean Course Hokuala. A portion will be donated back to the “Aloha Movement”. Driver’s license required to operate golf cart.
URL:https://www.golfhokuala.com/event/sunrise-hui-aloha/2026-05-05/
LOCATION:Ocean Course Hokuala\, 3132 Ninini Point St\, Lihue\, Hawaii\, 96766
END:VEVENT
BEGIN:VEVENT
DTSTART;TZID=UTC:20260504T090000
DTEND;TZID=UTC:20260504T100000
DTSTAMP:20260422T225857
CREATED:20260306T143723Z
LAST-MODIFIED:20260306T143728Z
UID:10000168-1777885200-1777888800@www.golfhokuala.com
SUMMARY:Aloha Swing Clinics
DESCRIPTION:Monday\, Wednesday\, Friday 9:00 AM clinics.  For beginners and those looking for a refresher. Beautiful time of the day to enjoy our morning clinic with the trade winds keeping you cool. \n\n\n\nCost $55 (includes club rental)
URL:https://www.golfhokuala.com/event/aloha-swing-clinics/2026-05-04/
LOCATION:ocean course hokuala\, 3132 Ninini Point Street\, Lihue\, Hawaii\, 96766
ORGANIZER;CN="Kellie Hines PGA":MAILTO:khines@golfhokuala.com
END:VEVENT
BEGIN:VEVENT
DTSTART;TZID=UTC:20260501T090000
DTEND;TZID=UTC:20260501T100000
DTSTAMP:20260422T225857
CREATED:20260306T143723Z
LAST-MODIFIED:20260306T143728Z
UID:10000167-1777626000-1777629600@www.golfhokuala.com
SUMMARY:Aloha Swing Clinics
DESCRIPTION:Monday\, Wednesday\, Friday 9:00 AM clinics.  For beginners and those looking for a refresher. Beautiful time of the day to enjoy our morning clinic with the trade winds keeping you cool. \n\n\n\nCost $55 (includes club rental)
URL:https://www.golfhokuala.com/event/aloha-swing-clinics/2026-05-01/
LOCATION:ocean course hokuala\, 3132 Ninini Point Street\, Lihue\, Hawaii\, 96766
ORGANIZER;CN="Kellie Hines PGA":MAILTO:khines@golfhokuala.com
END:VEVENT
BEGIN:VEVENT
DTSTART;TZID=Pacific/Honolulu:20260501T000000
DTEND;TZID=Pacific/Honolulu:20260531T235959
DTSTAMP:20260422T225857
CREATED:20260422T173755Z
LAST-MODIFIED:20260422T174256Z
UID:10000926-1777593600-1780271999@www.golfhokuala.com
SUMMARY:Player Development Month: Join our Monday\, Wednesday\, Friday Clinics
DESCRIPTION:
URL:https://www.golfhokuala.com/event/player-development-month-join-our-monday-wednesday-friday-clinics/
LOCATION:Hawaii
ATTACH;FMTTYPE=image/png:https://www.golfhokuala.com/wp-content/uploads/sites/9750/2026/04/May-Player-Development-Month-1.png
END:VEVENT
BEGIN:VEVENT
DTSTART;TZID=Pacific/Honolulu:20260501T000000
DTEND;TZID=Pacific/Honolulu:20260514T235959
DTSTAMP:20260422T225857
CREATED:20260422T174809Z
LAST-MODIFIED:20260422T174813Z
UID:10000927-1777593600-1778803199@www.golfhokuala.com
SUMMARY:Pick a Winner: PGA Championship
DESCRIPTION:
URL:https://www.golfhokuala.com/event/pick-a-winner-pga-championship/
LOCATION:Hawaii
ATTACH;FMTTYPE=image/png:https://www.golfhokuala.com/wp-content/uploads/sites/9750/2026/04/May-15-to-18-PGA-Championship-2.png
END:VEVENT
BEGIN:VEVENT
DTSTART;TZID=UTC:20260429T090000
DTEND;TZID=UTC:20260429T100000
DTSTAMP:20260422T225857
CREATED:20260306T143723Z
LAST-MODIFIED:20260306T143728Z
UID:10000166-1777453200-1777456800@www.golfhokuala.com
SUMMARY:Aloha Swing Clinics
DESCRIPTION:Monday\, Wednesday\, Friday 9:00 AM clinics.  For beginners and those looking for a refresher. Beautiful time of the day to enjoy our morning clinic with the trade winds keeping you cool. \n\n\n\nCost $55 (includes club rental)
URL:https://www.golfhokuala.com/event/aloha-swing-clinics/2026-04-29/
LOCATION:ocean course hokuala\, 3132 Ninini Point Street\, Lihue\, Hawaii\, 96766
ORGANIZER;CN="Kellie Hines PGA":MAILTO:khines@golfhokuala.com
END:VEVENT
BEGIN:VEVENT
DTSTART;TZID=UTC:20260428T063000
DTEND;TZID=UTC:20260428T080000
DTSTAMP:20260422T225857
CREATED:20260306T125604Z
LAST-MODIFIED:20260306T125607Z
UID:10000093-1777357800-1777363200@www.golfhokuala.com
SUMMARY:Sunrise Hui Aloha
DESCRIPTION:Celebrate the start of another Glorious Day\, join us Tuesdays 6:30 AM – 8:00 AM for a Sunrise greeting with an Alaka`i (tour guide). Stroll through the farm at Hokuala\, drive through the enchanted forest of mango grove\, listen to ancient Hawaiian ‘olelo (stories) of the area while enjoying stunning mountain and ocean views of the Ocean Course Hokuala. A portion will be donated back to the “Aloha Movement”. Driver’s license required to operate golf cart.
URL:https://www.golfhokuala.com/event/sunrise-hui-aloha/2026-04-28/
LOCATION:Ocean Course Hokuala\, 3132 Ninini Point St\, Lihue\, Hawaii\, 96766
END:VEVENT
BEGIN:VEVENT
DTSTART;TZID=UTC:20260427T090000
DTEND;TZID=UTC:20260427T100000
DTSTAMP:20260422T225857
CREATED:20260306T143723Z
LAST-MODIFIED:20260306T143728Z
UID:10000165-1777280400-1777284000@www.golfhokuala.com
SUMMARY:Aloha Swing Clinics
DESCRIPTION:Monday\, Wednesday\, Friday 9:00 AM clinics.  For beginners and those looking for a refresher. Beautiful time of the day to enjoy our morning clinic with the trade winds keeping you cool. \n\n\n\nCost $55 (includes club rental)
URL:https://www.golfhokuala.com/event/aloha-swing-clinics/2026-04-27/
LOCATION:ocean course hokuala\, 3132 Ninini Point Street\, Lihue\, Hawaii\, 96766
ORGANIZER;CN="Kellie Hines PGA":MAILTO:khines@golfhokuala.com
END:VEVENT
BEGIN:VEVENT
DTSTART;TZID=UTC:20260424T110000
DTEND;TZID=UTC:20260424T110000
DTSTAMP:20260422T225857
CREATED:20260128T233216Z
LAST-MODIFIED:20260128T233219Z
UID:10000076-1777028400-1777028400@www.golfhokuala.com
SUMMARY:PGA Hope
DESCRIPTION:TIME – 11am clinic with Tom FreestoneFEE – $20 Active Military Service Members and Free for Veterans & Retired Military Service MembersPURPOSE – to raise funds for Hokuala Hope Program to help fund clinics for Veterans
URL:https://www.golfhokuala.com/event/pga-hope-4/
LOCATION:Hawaii
END:VEVENT
BEGIN:VEVENT
DTSTART;TZID=UTC:20260424T090000
DTEND;TZID=UTC:20260424T100000
DTSTAMP:20260422T225857
CREATED:20260306T143723Z
LAST-MODIFIED:20260306T143728Z
UID:10000164-1777021200-1777024800@www.golfhokuala.com
SUMMARY:Aloha Swing Clinics
DESCRIPTION:Monday\, Wednesday\, Friday 9:00 AM clinics.  For beginners and those looking for a refresher. Beautiful time of the day to enjoy our morning clinic with the trade winds keeping you cool. \n\n\n\nCost $55 (includes club rental)
URL:https://www.golfhokuala.com/event/aloha-swing-clinics/2026-04-24/
LOCATION:ocean course hokuala\, 3132 Ninini Point Street\, Lihue\, Hawaii\, 96766
ORGANIZER;CN="Kellie Hines PGA":MAILTO:khines@golfhokuala.com
END:VEVENT
BEGIN:VEVENT
DTSTART;TZID=UTC:20260422T090000
DTEND;TZID=UTC:20260422T100000
DTSTAMP:20260422T225857
CREATED:20260306T143723Z
LAST-MODIFIED:20260306T143728Z
UID:10000163-1776848400-1776852000@www.golfhokuala.com
SUMMARY:Aloha Swing Clinics
DESCRIPTION:Monday\, Wednesday\, Friday 9:00 AM clinics.  For beginners and those looking for a refresher. Beautiful time of the day to enjoy our morning clinic with the trade winds keeping you cool. \n\n\n\nCost $55 (includes club rental)
URL:https://www.golfhokuala.com/event/aloha-swing-clinics/2026-04-22/
LOCATION:ocean course hokuala\, 3132 Ninini Point Street\, Lihue\, Hawaii\, 96766
ORGANIZER;CN="Kellie Hines PGA":MAILTO:khines@golfhokuala.com
END:VEVENT
BEGIN:VEVENT
DTSTART;TZID=UTC:20260421T063000
DTEND;TZID=UTC:20260421T080000
DTSTAMP:20260422T225857
CREATED:20260306T125604Z
LAST-MODIFIED:20260306T125607Z
UID:10000092-1776753000-1776758400@www.golfhokuala.com
SUMMARY:Sunrise Hui Aloha
DESCRIPTION:Celebrate the start of another Glorious Day\, join us Tuesdays 6:30 AM – 8:00 AM for a Sunrise greeting with an Alaka`i (tour guide). Stroll through the farm at Hokuala\, drive through the enchanted forest of mango grove\, listen to ancient Hawaiian ‘olelo (stories) of the area while enjoying stunning mountain and ocean views of the Ocean Course Hokuala. A portion will be donated back to the “Aloha Movement”. Driver’s license required to operate golf cart.
URL:https://www.golfhokuala.com/event/sunrise-hui-aloha/2026-04-21/
LOCATION:Ocean Course Hokuala\, 3132 Ninini Point St\, Lihue\, Hawaii\, 96766
END:VEVENT
BEGIN:VEVENT
DTSTART;TZID=UTC:20260420T090000
DTEND;TZID=UTC:20260420T100000
DTSTAMP:20260422T225857
CREATED:20260306T143723Z
LAST-MODIFIED:20260306T143728Z
UID:10000162-1776675600-1776679200@www.golfhokuala.com
SUMMARY:Aloha Swing Clinics
DESCRIPTION:Monday\, Wednesday\, Friday 9:00 AM clinics.  For beginners and those looking for a refresher. Beautiful time of the day to enjoy our morning clinic with the trade winds keeping you cool. \n\n\n\nCost $55 (includes club rental)
URL:https://www.golfhokuala.com/event/aloha-swing-clinics/2026-04-20/
LOCATION:ocean course hokuala\, 3132 Ninini Point Street\, Lihue\, Hawaii\, 96766
ORGANIZER;CN="Kellie Hines PGA":MAILTO:khines@golfhokuala.com
END:VEVENT
BEGIN:VEVENT
DTSTART;TZID=UTC:20260417T090000
DTEND;TZID=UTC:20260417T100000
DTSTAMP:20260422T225857
CREATED:20260306T143723Z
LAST-MODIFIED:20260306T143728Z
UID:10000161-1776416400-1776420000@www.golfhokuala.com
SUMMARY:Aloha Swing Clinics
DESCRIPTION:Monday\, Wednesday\, Friday 9:00 AM clinics.  For beginners and those looking for a refresher. Beautiful time of the day to enjoy our morning clinic with the trade winds keeping you cool. \n\n\n\nCost $55 (includes club rental)
URL:https://www.golfhokuala.com/event/aloha-swing-clinics/2026-04-17/
LOCATION:ocean course hokuala\, 3132 Ninini Point Street\, Lihue\, Hawaii\, 96766
ORGANIZER;CN="Kellie Hines PGA":MAILTO:khines@golfhokuala.com
END:VEVENT
BEGIN:VEVENT
DTSTART;TZID=UTC:20260415T090000
DTEND;TZID=UTC:20260415T100000
DTSTAMP:20260422T225857
CREATED:20260306T143723Z
LAST-MODIFIED:20260306T143728Z
UID:10000160-1776243600-1776247200@www.golfhokuala.com
SUMMARY:Aloha Swing Clinics
DESCRIPTION:Monday\, Wednesday\, Friday 9:00 AM clinics.  For beginners and those looking for a refresher. Beautiful time of the day to enjoy our morning clinic with the trade winds keeping you cool. \n\n\n\nCost $55 (includes club rental)
URL:https://www.golfhokuala.com/event/aloha-swing-clinics/2026-04-15/
LOCATION:ocean course hokuala\, 3132 Ninini Point Street\, Lihue\, Hawaii\, 96766
ORGANIZER;CN="Kellie Hines PGA":MAILTO:khines@golfhokuala.com
END:VEVENT
BEGIN:VEVENT
DTSTART;TZID=UTC:20260414T063000
DTEND;TZID=UTC:20260414T080000
DTSTAMP:20260422T225857
CREATED:20260306T125604Z
LAST-MODIFIED:20260306T125607Z
UID:10000091-1776148200-1776153600@www.golfhokuala.com
SUMMARY:Sunrise Hui Aloha
DESCRIPTION:Celebrate the start of another Glorious Day\, join us Tuesdays 6:30 AM – 8:00 AM for a Sunrise greeting with an Alaka`i (tour guide). Stroll through the farm at Hokuala\, drive through the enchanted forest of mango grove\, listen to ancient Hawaiian ‘olelo (stories) of the area while enjoying stunning mountain and ocean views of the Ocean Course Hokuala. A portion will be donated back to the “Aloha Movement”. Driver’s license required to operate golf cart.
URL:https://www.golfhokuala.com/event/sunrise-hui-aloha/2026-04-14/
LOCATION:Ocean Course Hokuala\, 3132 Ninini Point St\, Lihue\, Hawaii\, 96766
END:VEVENT
BEGIN:VEVENT
DTSTART;TZID=UTC:20260414T060000
DTEND;TZID=UTC:20260414T170000
DTSTAMP:20260422T225857
CREATED:20260306T131654Z
LAST-MODIFIED:20260306T131656Z
UID:10000130-1776146400-1776186000@www.golfhokuala.com
SUMMARY:Bi-Annual Beautification Aeration
DESCRIPTION:The Ocean Course Hokuala will be conducting our Bi-Annual Beautification Aeration on Monday and Tuesday April 13 and 14\, 2026 from 6am – 5pm\, the course will be closed for these dates and re-open on Wednesday\, April 15\, 2026.  Aeration rates apply till end of April 2026.
URL:https://www.golfhokuala.com/event/bi-annual-beautification-aeration/2026-04-14/
LOCATION:Hawaii
END:VEVENT
BEGIN:VEVENT
DTSTART;TZID=UTC:20260413T090000
DTEND;TZID=UTC:20260413T100000
DTSTAMP:20260422T225857
CREATED:20260306T143723Z
LAST-MODIFIED:20260306T143728Z
UID:10000159-1776070800-1776074400@www.golfhokuala.com
SUMMARY:Aloha Swing Clinics
DESCRIPTION:Monday\, Wednesday\, Friday 9:00 AM clinics.  For beginners and those looking for a refresher. Beautiful time of the day to enjoy our morning clinic with the trade winds keeping you cool. \n\n\n\nCost $55 (includes club rental)
URL:https://www.golfhokuala.com/event/aloha-swing-clinics/2026-04-13/
LOCATION:ocean course hokuala\, 3132 Ninini Point Street\, Lihue\, Hawaii\, 96766
ORGANIZER;CN="Kellie Hines PGA":MAILTO:khines@golfhokuala.com
END:VEVENT
BEGIN:VEVENT
DTSTART;TZID=UTC:20260413T060000
DTEND;TZID=UTC:20260413T170000
DTSTAMP:20260422T225857
CREATED:20260306T131654Z
LAST-MODIFIED:20260306T131656Z
UID:10000129-1776060000-1776099600@www.golfhokuala.com
SUMMARY:Bi-Annual Beautification Aeration
DESCRIPTION:The Ocean Course Hokuala will be conducting our Bi-Annual Beautification Aeration on Monday and Tuesday April 13 and 14\, 2026 from 6am – 5pm\, the course will be closed for these dates and re-open on Wednesday\, April 15\, 2026.  Aeration rates apply till end of April 2026.
URL:https://www.golfhokuala.com/event/bi-annual-beautification-aeration/2026-04-13/
LOCATION:Hawaii
END:VEVENT
BEGIN:VEVENT
DTSTART;TZID=UTC:20260410T090000
DTEND;TZID=UTC:20260410T100000
DTSTAMP:20260422T225857
CREATED:20260306T143723Z
LAST-MODIFIED:20260306T143728Z
UID:10000158-1775811600-1775815200@www.golfhokuala.com
SUMMARY:Aloha Swing Clinics
DESCRIPTION:Monday\, Wednesday\, Friday 9:00 AM clinics.  For beginners and those looking for a refresher. Beautiful time of the day to enjoy our morning clinic with the trade winds keeping you cool. \n\n\n\nCost $55 (includes club rental)
URL:https://www.golfhokuala.com/event/aloha-swing-clinics/2026-04-10/
LOCATION:ocean course hokuala\, 3132 Ninini Point Street\, Lihue\, Hawaii\, 96766
ORGANIZER;CN="Kellie Hines PGA":MAILTO:khines@golfhokuala.com
END:VEVENT
BEGIN:VEVENT
DTSTART;TZID=UTC:20260408T120000
DTEND;TZID=UTC:20260408T160000
DTSTAMP:20260422T225857
CREATED:20260306T140951Z
LAST-MODIFIED:20260306T140954Z
UID:10000135-1775649600-1775664000@www.golfhokuala.com
SUMMARY:Lihue Business Association Golf Club
DESCRIPTION:Monthly LBA Golf League plays every 2nd Wednesday of the month at 12pm tee time\, league is open to Lihue Business Owners and Associates.  To join the league contact Sharron Weber via email at smwsurf@yahoo.com.
URL:https://www.golfhokuala.com/event/lihue-business-association-golf-club/2026-04-08/
LOCATION:Hawaii
END:VEVENT
BEGIN:VEVENT
DTSTART;TZID=UTC:20260408T090000
DTEND;TZID=UTC:20260408T100000
DTSTAMP:20260422T225857
CREATED:20260306T143723Z
LAST-MODIFIED:20260306T143728Z
UID:10000157-1775638800-1775642400@www.golfhokuala.com
SUMMARY:Aloha Swing Clinics
DESCRIPTION:Monday\, Wednesday\, Friday 9:00 AM clinics.  For beginners and those looking for a refresher. Beautiful time of the day to enjoy our morning clinic with the trade winds keeping you cool. \n\n\n\nCost $55 (includes club rental)
URL:https://www.golfhokuala.com/event/aloha-swing-clinics/2026-04-08/
LOCATION:ocean course hokuala\, 3132 Ninini Point Street\, Lihue\, Hawaii\, 96766
ORGANIZER;CN="Kellie Hines PGA":MAILTO:khines@golfhokuala.com
END:VEVENT
BEGIN:VEVENT
DTSTART;TZID=UTC:20260407T063000
DTEND;TZID=UTC:20260407T080000
DTSTAMP:20260422T225857
CREATED:20260306T125604Z
LAST-MODIFIED:20260306T125607Z
UID:10000090-1775543400-1775548800@www.golfhokuala.com
SUMMARY:Sunrise Hui Aloha
DESCRIPTION:Celebrate the start of another Glorious Day\, join us Tuesdays 6:30 AM – 8:00 AM for a Sunrise greeting with an Alaka`i (tour guide). Stroll through the farm at Hokuala\, drive through the enchanted forest of mango grove\, listen to ancient Hawaiian ‘olelo (stories) of the area while enjoying stunning mountain and ocean views of the Ocean Course Hokuala. A portion will be donated back to the “Aloha Movement”. Driver’s license required to operate golf cart.
URL:https://www.golfhokuala.com/event/sunrise-hui-aloha/2026-04-07/
LOCATION:Ocean Course Hokuala\, 3132 Ninini Point St\, Lihue\, Hawaii\, 96766
END:VEVENT
BEGIN:VEVENT
DTSTART;TZID=UTC:20260406T090000
DTEND;TZID=UTC:20260406T100000
DTSTAMP:20260422T225857
CREATED:20260306T143723Z
LAST-MODIFIED:20260306T143728Z
UID:10000156-1775466000-1775469600@www.golfhokuala.com
SUMMARY:Aloha Swing Clinics
DESCRIPTION:Monday\, Wednesday\, Friday 9:00 AM clinics.  For beginners and those looking for a refresher. Beautiful time of the day to enjoy our morning clinic with the trade winds keeping you cool. \n\n\n\nCost $55 (includes club rental)
URL:https://www.golfhokuala.com/event/aloha-swing-clinics/2026-04-06/
LOCATION:ocean course hokuala\, 3132 Ninini Point Street\, Lihue\, Hawaii\, 96766
ORGANIZER;CN="Kellie Hines PGA":MAILTO:khines@golfhokuala.com
END:VEVENT
BEGIN:VEVENT
DTSTART;TZID=UTC:20260403T090000
DTEND;TZID=UTC:20260403T100000
DTSTAMP:20260422T225857
CREATED:20260306T143723Z
LAST-MODIFIED:20260306T143728Z
UID:10000155-1775206800-1775210400@www.golfhokuala.com
SUMMARY:Aloha Swing Clinics
DESCRIPTION:Monday\, Wednesday\, Friday 9:00 AM clinics.  For beginners and those looking for a refresher. Beautiful time of the day to enjoy our morning clinic with the trade winds keeping you cool. \n\n\n\nCost $55 (includes club rental)
URL:https://www.golfhokuala.com/event/aloha-swing-clinics/2026-04-03/
LOCATION:ocean course hokuala\, 3132 Ninini Point Street\, Lihue\, Hawaii\, 96766
ORGANIZER;CN="Kellie Hines PGA":MAILTO:khines@golfhokuala.com
END:VEVENT
BEGIN:VEVENT
DTSTART;TZID=UTC:20260401T090000
DTEND;TZID=UTC:20260401T100000
DTSTAMP:20260422T225857
CREATED:20260306T143723Z
LAST-MODIFIED:20260306T143728Z
UID:10000154-1775034000-1775037600@www.golfhokuala.com
SUMMARY:Aloha Swing Clinics
DESCRIPTION:Monday\, Wednesday\, Friday 9:00 AM clinics.  For beginners and those looking for a refresher. Beautiful time of the day to enjoy our morning clinic with the trade winds keeping you cool. \n\n\n\nCost $55 (includes club rental)
URL:https://www.golfhokuala.com/event/aloha-swing-clinics/2026-04-01/
LOCATION:ocean course hokuala\, 3132 Ninini Point Street\, Lihue\, Hawaii\, 96766
ORGANIZER;CN="Kellie Hines PGA":MAILTO:khines@golfhokuala.com
END:VEVENT
BEGIN:VEVENT
DTSTART;TZID=UTC:20260331T063000
DTEND;TZID=UTC:20260331T080000
DTSTAMP:20260422T225857
CREATED:20260306T125604Z
LAST-MODIFIED:20260306T125607Z
UID:10000089-1774938600-1774944000@www.golfhokuala.com
SUMMARY:Sunrise Hui Aloha
DESCRIPTION:Celebrate the start of another Glorious Day\, join us Tuesdays 6:30 AM – 8:00 AM for a Sunrise greeting with an Alaka`i (tour guide). Stroll through the farm at Hokuala\, drive through the enchanted forest of mango grove\, listen to ancient Hawaiian ‘olelo (stories) of the area while enjoying stunning mountain and ocean views of the Ocean Course Hokuala. A portion will be donated back to the “Aloha Movement”. Driver’s license required to operate golf cart.
URL:https://www.golfhokuala.com/event/sunrise-hui-aloha/2026-03-31/
LOCATION:Ocean Course Hokuala\, 3132 Ninini Point St\, Lihue\, Hawaii\, 96766
END:VEVENT
BEGIN:VEVENT
DTSTART;TZID=UTC:20260330T090000
DTEND;TZID=UTC:20260330T100000
DTSTAMP:20260422T225857
CREATED:20260306T143723Z
LAST-MODIFIED:20260306T143728Z
UID:10000153-1774861200-1774864800@www.golfhokuala.com
SUMMARY:Aloha Swing Clinics
DESCRIPTION:Monday\, Wednesday\, Friday 9:00 AM clinics.  For beginners and those looking for a refresher. Beautiful time of the day to enjoy our morning clinic with the trade winds keeping you cool. \n\n\n\nCost $55 (includes club rental)
URL:https://www.golfhokuala.com/event/aloha-swing-clinics/2026-03-30/
LOCATION:ocean course hokuala\, 3132 Ninini Point Street\, Lihue\, Hawaii\, 96766
ORGANIZER;CN="Kellie Hines PGA":MAILTO:khines@golfhokuala.com
END:VEVENT
END:VCALENDAR